| Back to Multiple platform build/check report for BioC 3.8 | 
  | 
This page was generated on 2018-12-11 11:18:49 -0500 (Tue, 11 Dec 2018).
| Package 1392/1649 | Hostname | OS / Arch | INSTALL | BUILD | CHECK | BUILD BIN | ||||||
| SCBN 1.0.0 Yan Zhou 
  | malbec1 | Linux (Ubuntu 16.04.1 LTS) / x86_64 | OK | OK | OK | |||||||
| tokay1 | Windows Server 2012 R2 Standard / x64 | OK | OK | OK | [ OK ] | |||||||
| merida1 | OS X 10.11.6 El Capitan / x86_64 | OK | OK | OK | OK | 
| Package: SCBN | 
| Version: 1.0.0 | 
| Command: rm -rf SCBN.buildbin-libdir && mkdir SCBN.buildbin-libdir && C:\Users\biocbuild\bbs-3.8-bioc\R\bin\R.exe CMD INSTALL --merge-multiarch --build --library=SCBN.buildbin-libdir SCBN_1.0.0.tar.gz | 
| StartedAt: 2018-12-11 07:25:39 -0500 (Tue, 11 Dec 2018) | 
| EndedAt: 2018-12-11 07:25:43 -0500 (Tue, 11 Dec 2018) | 
| EllapsedTime: 4.2 seconds | 
| RetCode: 0 | 
| Status: OK | 
| PackageFile: SCBN_1.0.0.zip | 
| PackageFileSize: 700.9 KiB | 
##############################################################################
##############################################################################
###
### Running command:
###
###   rm -rf SCBN.buildbin-libdir && mkdir SCBN.buildbin-libdir && C:\Users\biocbuild\bbs-3.8-bioc\R\bin\R.exe CMD INSTALL --merge-multiarch --build --library=SCBN.buildbin-libdir SCBN_1.0.0.tar.gz
###
##############################################################################
##############################################################################
install for i386
* installing *source* package 'SCBN' ...
** R
** data
*** moving datasets to lazyload DB
** inst
** byte-compile and prepare package for lazy loading
** help
*** installing help indices
  converting help for package 'SCBN'
    finding HTML links ... done
    SCBN                                    html  
    To                                      html  
    generateDataset                         html  
    orthgene                                html  
    sim_data                                html  
** building package indices
** installing vignettes
** testing if installed package can be loaded
In R CMD INSTALL
install for x64
* installing *source* package 'SCBN' ...
** testing if installed package can be loaded
* MD5 sums
packaged installation of 'SCBN' as SCBN_1.0.0.zip
* DONE (SCBN)
In R CMD INSTALL
In R CMD INSTALL