| Back to Multiple platform build/check report for BioC 3.8 |
|
This page was generated on 2019-04-16 11:50:57 -0400 (Tue, 16 Apr 2019).
| Package 1347/1649 | Hostname | OS / Arch | INSTALL | BUILD | CHECK | BUILD BIN | ||||||
| Rqc 1.16.2 Welliton Souza
| malbec1 | Linux (Ubuntu 16.04.6 LTS) / x86_64 | [ OK ] | OK | OK | |||||||
| merida1 | OS X 10.11.6 El Capitan / x86_64 | OK | OK | OK | OK |
| Package: Rqc |
| Version: 1.16.2 |
| Command: /home/biocbuild/bbs-3.8-bioc/R/bin/R CMD INSTALL Rqc |
| StartedAt: 2019-04-15 18:25:40 -0400 (Mon, 15 Apr 2019) |
| EndedAt: 2019-04-15 18:26:22 -0400 (Mon, 15 Apr 2019) |
| EllapsedTime: 42.4 seconds |
| RetCode: 0 |
| Status: OK |
##############################################################################
##############################################################################
###
### Running command:
###
### /home/biocbuild/bbs-3.8-bioc/R/bin/R CMD INSTALL Rqc
###
##############################################################################
##############################################################################
* installing to library ‘/home/biocbuild/bbs-3.8-bioc/R/library’
* installing *source* package ‘Rqc’ ...
** libs
g++ -I"/home/biocbuild/bbs-3.8-bioc/R/include" -DNDEBUG -I"/home/biocbuild/bbs-3.8-bioc/R/library/Rcpp/include" -I/usr/local/include -fpic -g -O2 -Wall -c RRDNA.cpp -o RRDNA.o
RRDNA.cpp: In function ‘Rcpp::StringVector toRRDNA(Rcpp::StringVector)’:
RRDNA.cpp:51:27: warning: comparison between signed and unsigned integer expressions [-Wsign-compare]
for (j = 0; j < dna.size(); j+=3)
^
RRDNA.cpp: In function ‘Rcpp::StringVector fromRRDNA(Rcpp::StringVector)’:
RRDNA.cpp:102:22: warning: comparison between signed and unsigned integer expressions [-Wsign-compare]
for(j = 1; j < rrdna.size(); ++j) {
^
g++ -I"/home/biocbuild/bbs-3.8-bioc/R/include" -DNDEBUG -I"/home/biocbuild/bbs-3.8-bioc/R/library/Rcpp/include" -I/usr/local/include -fpic -g -O2 -Wall -c RcppExports.cpp -o RcppExports.o
g++ -shared -L/home/biocbuild/bbs-3.8-bioc/R/lib -L/usr/local/lib -o Rqc.so RRDNA.o RcppExports.o -L/home/biocbuild/bbs-3.8-bioc/R/lib -lR
installing to /home/biocbuild/bbs-3.8-bioc/R/library/Rqc/libs
** R
** inst
** byte-compile and prepare package for lazy loading
** help
*** installing help indices
** building package indices
** installing vignettes
** testing if installed package can be loaded
* DONE (Rqc)