| Back to Multiple platform build/check report for BioC 3.8 |
|
This page was generated on 2019-04-13 11:20:59 -0400 (Sat, 13 Apr 2019).
| Package 1323/1649 | Hostname | OS / Arch | INSTALL | BUILD | CHECK | BUILD BIN | ||||||
| RmiR 1.38.0 Francesco Favero
| malbec1 | Linux (Ubuntu 16.04.6 LTS) / x86_64 | OK | OK | OK | |||||||
| tokay1 | Windows Server 2012 R2 Standard / x64 | OK | OK | ERROR | [ OK ] | |||||||
| merida1 | OS X 10.11.6 El Capitan / x86_64 | OK | OK | OK | OK |
| Package: RmiR |
| Version: 1.38.0 |
| Command: rm -rf RmiR.buildbin-libdir && mkdir RmiR.buildbin-libdir && C:\Users\biocbuild\bbs-3.8-bioc\R\bin\R.exe CMD INSTALL --merge-multiarch --build --library=RmiR.buildbin-libdir RmiR_1.38.0.tar.gz |
| StartedAt: 2019-04-13 07:52:46 -0400 (Sat, 13 Apr 2019) |
| EndedAt: 2019-04-13 07:53:00 -0400 (Sat, 13 Apr 2019) |
| EllapsedTime: 13.8 seconds |
| RetCode: 0 |
| Status: OK |
| PackageFile: RmiR_1.38.0.zip |
| PackageFileSize: 319.5 KiB |
##############################################################################
##############################################################################
###
### Running command:
###
### rm -rf RmiR.buildbin-libdir && mkdir RmiR.buildbin-libdir && C:\Users\biocbuild\bbs-3.8-bioc\R\bin\R.exe CMD INSTALL --merge-multiarch --build --library=RmiR.buildbin-libdir RmiR_1.38.0.tar.gz
###
##############################################################################
##############################################################################
install for i386
* installing *source* package 'RmiR' ...
** R
** data
** inst
** byte-compile and prepare package for lazy loading
** help
*** installing help indices
converting help for package 'RmiR'
finding HTML links ... done
RmiR html
RmiRtc html
data html
plotRmiRtc html
** building package indices
** installing vignettes
** testing if installed package can be loaded
In R CMD INSTALL
install for x64
* installing *source* package 'RmiR' ...
** testing if installed package can be loaded
* MD5 sums
packaged installation of 'RmiR' as RmiR_1.38.0.zip
* DONE (RmiR)
In R CMD INSTALL
In R CMD INSTALL