| Back to Multiple platform build/check report for BioC 3.8 |
|
This page was generated on 2019-04-16 11:48:19 -0400 (Tue, 16 Apr 2019).
| Package 1313/1649 | Hostname | OS / Arch | INSTALL | BUILD | CHECK | BUILD BIN | ||||||
| Ringo 1.46.0 J. Toedling
| malbec1 | Linux (Ubuntu 16.04.6 LTS) / x86_64 | [ OK ] | OK | OK | |||||||
| merida1 | OS X 10.11.6 El Capitan / x86_64 | OK | OK | OK | OK |
| Package: Ringo |
| Version: 1.46.0 |
| Command: /home/biocbuild/bbs-3.8-bioc/R/bin/R CMD INSTALL Ringo |
| StartedAt: 2019-04-15 18:08:17 -0400 (Mon, 15 Apr 2019) |
| EndedAt: 2019-04-15 18:08:40 -0400 (Mon, 15 Apr 2019) |
| EllapsedTime: 23.2 seconds |
| RetCode: 0 |
| Status: OK |
##############################################################################
##############################################################################
###
### Running command:
###
### /home/biocbuild/bbs-3.8-bioc/R/bin/R CMD INSTALL Ringo
###
##############################################################################
##############################################################################
* installing to library ‘/home/biocbuild/bbs-3.8-bioc/R/library’
* installing *source* package ‘Ringo’ ...
** libs
g++ -I"/home/biocbuild/bbs-3.8-bioc/R/include" -DNDEBUG -I/usr/local/include -fpic -g -O2 -Wall -c mmeansd.cpp -o mmeansd.o
mmeansd.cpp: In function ‘SEXPREC* moving_mean_sd(SEXP, SEXP, SEXP)’:
mmeansd.cpp:29:24: warning: variable ‘is’ set but not used [-Wunused-but-set-variable]
int * x, nval, hs, is, i;
^
g++ -I"/home/biocbuild/bbs-3.8-bioc/R/include" -DNDEBUG -I/usr/local/include -fpic -g -O2 -Wall -c mmedian.cpp -o mmedian.o
gcc -I"/home/biocbuild/bbs-3.8-bioc/R/include" -DNDEBUG -I/usr/local/include -fpic -g -O2 -Wall -c region_overlap.c -o region_overlap.o
gcc -I"/home/biocbuild/bbs-3.8-bioc/R/include" -DNDEBUG -I/usr/local/include -fpic -g -O2 -Wall -c ringo_init.c -o ringo_init.o
g++ -shared -L/home/biocbuild/bbs-3.8-bioc/R/lib -L/usr/local/lib -o Ringo.so mmeansd.o mmedian.o region_overlap.o ringo_init.o -L/home/biocbuild/bbs-3.8-bioc/R/lib -lR
installing to /home/biocbuild/bbs-3.8-bioc/R/library/Ringo/libs
** R
** inst
** byte-compile and prepare package for lazy loading
Creating a generic function for ‘ls’ from package ‘base’ in package ‘Ringo’
** help
*** installing help indices
** building package indices
** installing vignettes
** testing if installed package can be loaded
* DONE (Ringo)