| Back to Multiple platform build/check report for BioC 3.8 |
|
This page was generated on 2019-04-13 11:26:02 -0400 (Sat, 13 Apr 2019).
| Package 1310/1649 | Hostname | OS / Arch | INSTALL | BUILD | CHECK | BUILD BIN | ||||||
| RiboProfiling 1.12.0 A. Popa
| malbec1 | Linux (Ubuntu 16.04.6 LTS) / x86_64 | OK | OK | WARNINGS | |||||||
| tokay1 | Windows Server 2012 R2 Standard / x64 | OK | OK | WARNINGS | [ OK ] | |||||||
| merida1 | OS X 10.11.6 El Capitan / x86_64 | OK | OK | WARNINGS | OK |
| Package: RiboProfiling |
| Version: 1.12.0 |
| Command: rm -rf RiboProfiling.buildbin-libdir && mkdir RiboProfiling.buildbin-libdir && C:\Users\biocbuild\bbs-3.8-bioc\R\bin\R.exe CMD INSTALL --merge-multiarch --build --library=RiboProfiling.buildbin-libdir RiboProfiling_1.12.0.tar.gz |
| StartedAt: 2019-04-13 07:52:09 -0400 (Sat, 13 Apr 2019) |
| EndedAt: 2019-04-13 07:52:51 -0400 (Sat, 13 Apr 2019) |
| EllapsedTime: 42.7 seconds |
| RetCode: 0 |
| Status: OK |
| PackageFile: RiboProfiling_1.12.0.zip |
| PackageFileSize: 4.59 MiB |
##############################################################################
##############################################################################
###
### Running command:
###
### rm -rf RiboProfiling.buildbin-libdir && mkdir RiboProfiling.buildbin-libdir && C:\Users\biocbuild\bbs-3.8-bioc\R\bin\R.exe CMD INSTALL --merge-multiarch --build --library=RiboProfiling.buildbin-libdir RiboProfiling_1.12.0.tar.gz
###
##############################################################################
##############################################################################
install for i386
* installing *source* package 'RiboProfiling' ...
** R
** data
** inst
** byte-compile and prepare package for lazy loading
Warning: replacing previous import 'BiocGenerics::Position' by 'ggplot2::Position' when loading 'RiboProfiling'
** help
*** installing help indices
converting help for package 'RiboProfiling'
finding HTML links ... done
RiboProfiling html
aroundPromoter html
cdsPosTransc html
codonDataCtrl html
codonIndexCovCtrl html
codonInfo html
codonPCA html
countShiftReads html
countsPlot html
ctrlGAlignments html
histMatchLength html
orfRelativePos html
plotSummarizedCov html
printPCA html
readStartCov html
readsToStartOrEnd html
riboSeqFromBAM html
** building package indices
** installing vignettes
** testing if installed package can be loaded
Warning: replacing previous import 'BiocGenerics::Position' by 'ggplot2::Position' when loading 'RiboProfiling'
In R CMD INSTALL
install for x64
* installing *source* package 'RiboProfiling' ...
** testing if installed package can be loaded
Warning: replacing previous import 'BiocGenerics::Position' by 'ggplot2::Position' when loading 'RiboProfiling'
* MD5 sums
packaged installation of 'RiboProfiling' as RiboProfiling_1.12.0.zip
* DONE (RiboProfiling)
In R CMD INSTALL
In R CMD INSTALL