| Back to Multiple platform build/check report for BioC 3.8 | 
 | 
This page was generated on 2019-04-16 11:56:10 -0400 (Tue, 16 Apr 2019).
| Package 1292/1649 | Hostname | OS / Arch | INSTALL | BUILD | CHECK | BUILD BIN | ||||||
| ReQON 1.28.0 Christopher Cabanski 
 | malbec1 | Linux (Ubuntu 16.04.6 LTS) / x86_64 | OK | OK | OK |  | ||||||
| merida1 | OS X 10.11.6 El Capitan / x86_64 | OK | OK | OK | [ OK ] |  | 
| Package: ReQON | 
| Version: 1.28.0 | 
| Command: rm -rf ReQON.buildbin-libdir && mkdir ReQON.buildbin-libdir && /Users/biocbuild/BBS/utils/build-universal.sh ReQON_1.28.0.tar.gz /Library/Frameworks/R.framework/Versions/Current/Resources/bin/R ReQON.buildbin-libdir | 
| StartedAt: 2019-04-16 04:38:06 -0400 (Tue, 16 Apr 2019) | 
| EndedAt: 2019-04-16 04:38:48 -0400 (Tue, 16 Apr 2019) | 
| EllapsedTime: 42.1 seconds | 
| RetCode: 0 | 
| Status: OK | 
| PackageFile: ReQON_1.28.0.tgz | 
| PackageFileSize: 1.343 MiB | 
############################################################################## ############################################################################## ### ### Running command: ### ### rm -rf ReQON.buildbin-libdir && mkdir ReQON.buildbin-libdir && /Users/biocbuild/BBS/utils/build-universal.sh ReQON_1.28.0.tar.gz /Library/Frameworks/R.framework/Versions/Current/Resources/bin/R ReQON.buildbin-libdir ### ############################################################################## ############################################################################## >>>>>>> >>>>>>> INSTALLATION WITH 'R CMD INSTALL --preclean --no-multiarch --library=ReQON.buildbin-libdir ReQON_1.28.0.tar.gz' >>>>>>> * installing *source* package ‘ReQON’ ... ** R ** inst ** byte-compile and prepare package for lazy loading ** help *** installing help indices ** building package indices ** installing vignettes ** testing if installed package can be loaded * DONE (ReQON)