| Back to Multiple platform build/check report for BioC 3.8 |
|
This page was generated on 2019-04-16 11:50:26 -0400 (Tue, 16 Apr 2019).
| Package 1268/1649 | Hostname | OS / Arch | INSTALL | BUILD | CHECK | BUILD BIN | ||||||
| Rcpi 1.18.2 Nan Xiao
| malbec1 | Linux (Ubuntu 16.04.6 LTS) / x86_64 | OK | [ OK ] | OK | |||||||
| merida1 | OS X 10.11.6 El Capitan / x86_64 | OK | OK | OK | OK |
| Package: Rcpi |
| Version: 1.18.2 |
| Command: /home/biocbuild/bbs-3.8-bioc/R/bin/R CMD build --keep-empty-dirs --no-resave-data Rcpi |
| StartedAt: 2019-04-15 19:42:10 -0400 (Mon, 15 Apr 2019) |
| EndedAt: 2019-04-15 19:42:30 -0400 (Mon, 15 Apr 2019) |
| EllapsedTime: 20.3 seconds |
| RetCode: 0 |
| Status: OK |
| PackageFile: Rcpi_1.18.2.tar.gz |
| PackageFileSize: 3.305 MiB |
##############################################################################
##############################################################################
###
### Running command:
###
### /home/biocbuild/bbs-3.8-bioc/R/bin/R CMD build --keep-empty-dirs --no-resave-data Rcpi
###
##############################################################################
##############################################################################
* checking for file ‘Rcpi/DESCRIPTION’ ... OK
* preparing ‘Rcpi’:
* checking DESCRIPTION meta-information ... OK
* installing the package to build vignettes
* creating vignettes ... OK
Warning: ‘inst/doc’ file
‘Rcpi-quickref.R’
ignored as vignettes have been rebuilt.
Run R CMD build with --no-build-vignettes to prevent rebuilding.
* checking for LF line-endings in source and make files and shell scripts
* checking for empty or unneeded directories
* looking to see if a ‘data/datalist’ file should be added
* building ‘Rcpi_1.18.2.tar.gz’