| Back to Multiple platform build/check report for BioC 3.8 |
|
This page was generated on 2019-04-16 11:56:42 -0400 (Tue, 16 Apr 2019).
| Package 1257/1649 | Hostname | OS / Arch | INSTALL | BUILD | CHECK | BUILD BIN | ||||||
| Rbowtie 1.22.0 Michael Stadler
| malbec1 | Linux (Ubuntu 16.04.6 LTS) / x86_64 | OK | OK | OK | |||||||
| merida1 | OS X 10.11.6 El Capitan / x86_64 | OK | [ OK ] | OK | OK |
| Package: Rbowtie |
| Version: 1.22.0 |
| Command: /Library/Frameworks/R.framework/Versions/Current/Resources/bin/R CMD build --keep-empty-dirs --no-resave-data Rbowtie |
| StartedAt: 2019-04-15 19:44:29 -0400 (Mon, 15 Apr 2019) |
| EndedAt: 2019-04-15 19:47:02 -0400 (Mon, 15 Apr 2019) |
| EllapsedTime: 153.2 seconds |
| RetCode: 0 |
| Status: OK |
| PackageFile: Rbowtie_1.22.0.tar.gz |
| PackageFileSize: 4.611 MiB |
############################################################################## ############################################################################## ### ### Running command: ### ### /Library/Frameworks/R.framework/Versions/Current/Resources/bin/R CMD build --keep-empty-dirs --no-resave-data Rbowtie ### ############################################################################## ############################################################################## * checking for file ‘Rbowtie/DESCRIPTION’ ... OK * preparing ‘Rbowtie’: * checking DESCRIPTION meta-information ... OK * cleaning src * installing the package to build vignettes * creating vignettes ... OK * cleaning src * checking for LF line-endings in source and make files and shell scripts * checking for empty or unneeded directories * building ‘Rbowtie_1.22.0.tar.gz’