| Back to Multiple platform build/check report for BioC 3.8 |
|
This page was generated on 2019-04-16 12:09:24 -0400 (Tue, 16 Apr 2019).
| Package 1247/1649 | Hostname | OS / Arch | INSTALL | BUILD | CHECK | BUILD BIN | ||||||
| RandomWalkRestartMH 1.2.0 Alberto Valdeolivas Urbelz
| malbec1 | Linux (Ubuntu 16.04.6 LTS) / x86_64 | OK | OK | OK | |||||||
| merida1 | OS X 10.11.6 El Capitan / x86_64 | OK | OK | [ OK ] | OK |
| Package: RandomWalkRestartMH |
| Version: 1.2.0 |
| Command: /Library/Frameworks/R.framework/Versions/Current/Resources/bin/R CMD check --install=check:RandomWalkRestartMH.install-out.txt --library=/Library/Frameworks/R.framework/Versions/Current/Resources/library --no-vignettes --timings RandomWalkRestartMH_1.2.0.tar.gz |
| StartedAt: 2019-04-16 02:11:44 -0400 (Tue, 16 Apr 2019) |
| EndedAt: 2019-04-16 02:12:53 -0400 (Tue, 16 Apr 2019) |
| EllapsedTime: 68.6 seconds |
| RetCode: 0 |
| Status: OK |
| CheckDir: RandomWalkRestartMH.Rcheck |
| Warnings: 0 |
############################################################################## ############################################################################## ### ### Running command: ### ### /Library/Frameworks/R.framework/Versions/Current/Resources/bin/R CMD check --install=check:RandomWalkRestartMH.install-out.txt --library=/Library/Frameworks/R.framework/Versions/Current/Resources/library --no-vignettes --timings RandomWalkRestartMH_1.2.0.tar.gz ### ############################################################################## ############################################################################## * using log directory ‘/Users/biocbuild/bbs-3.8-bioc/meat/RandomWalkRestartMH.Rcheck’ * using R version 3.5.3 (2019-03-11) * using platform: x86_64-apple-darwin15.6.0 (64-bit) * using session charset: UTF-8 * using option ‘--no-vignettes’ * checking for file ‘RandomWalkRestartMH/DESCRIPTION’ ... OK * checking extension type ... Package * this is package ‘RandomWalkRestartMH’ version ‘1.2.0’ * package encoding: UTF-8 * checking package namespace information ... OK * checking package dependencies ... OK * checking if this is a source package ... OK * checking if there is a namespace ... OK * checking for hidden files and directories ... OK * checking for portable file names ... OK * checking for sufficient/correct file permissions ... OK * checking whether package ‘RandomWalkRestartMH’ can be installed ... OK * checking installed package size ... OK * checking package directory ... OK * checking ‘build’ directory ... OK * checking DESCRIPTION meta-information ... OK * checking top-level files ... OK * checking for left-over files ... OK * checking index information ... OK * checking package subdirectories ... OK * checking R files for non-ASCII characters ... OK * checking R files for syntax errors ... OK * checking whether the package can be loaded ... OK * checking whether the package can be loaded with stated dependencies ... OK * checking whether the package can be unloaded cleanly ... OK * checking whether the namespace can be loaded with stated dependencies ... OK * checking whether the namespace can be unloaded cleanly ... OK * checking dependencies in R code ... OK * checking S3 generic/method consistency ... OK * checking replacement functions ... OK * checking foreign function calls ... OK * checking R code for possible problems ... OK * checking Rd files ... OK * checking Rd metadata ... OK * checking Rd cross-references ... OK * checking for missing documentation entries ... OK * checking for code/documentation mismatches ... OK * checking Rd \usage sections ... OK * checking Rd contents ... OK * checking for unstated dependencies in examples ... OK * checking contents of ‘data’ directory ... OK * checking data for non-ASCII characters ... OK * checking data for ASCII and uncompressed saves ... OK * checking sizes of PDF files under ‘inst/doc’ ... OK * checking files in ‘vignettes’ ... OK * checking examples ... OK * checking for unstated dependencies in ‘tests’ ... OK * checking tests ... Running ‘testthat.R’ OK * checking for unstated dependencies in vignettes ... OK * checking package vignettes in ‘inst/doc’ ... OK * checking running R code from vignettes ... SKIPPED * checking re-building of vignette outputs ... SKIPPED * checking PDF version of manual ... OK * DONE Status: OK
RandomWalkRestartMH.Rcheck/00install.out
############################################################################## ############################################################################## ### ### Running command: ### ### /Library/Frameworks/R.framework/Versions/Current/Resources/bin/R CMD INSTALL RandomWalkRestartMH ### ############################################################################## ############################################################################## * installing to library ‘/Library/Frameworks/R.framework/Versions/3.5/Resources/library’ * installing *source* package ‘RandomWalkRestartMH’ ... ** R ** data *** moving datasets to lazyload DB ** byte-compile and prepare package for lazy loading ** help *** installing help indices ** building package indices ** installing vignettes ** testing if installed package can be loaded * DONE (RandomWalkRestartMH)
RandomWalkRestartMH.Rcheck/tests/testthat.Rout
R version 3.5.3 (2019-03-11) -- "Great Truth"
Copyright (C) 2019 The R Foundation for Statistical Computing
Platform: x86_64-apple-darwin15.6.0 (64-bit)
R is free software and comes with ABSOLUTELY NO WARRANTY.
You are welcome to redistribute it under certain conditions.
Type 'license()' or 'licence()' for distribution details.
R is a collaborative project with many contributors.
Type 'contributors()' for more information and
'citation()' on how to cite R or R packages in publications.
Type 'demo()' for some demos, 'help()' for on-line help, or
'help.start()' for an HTML browser interface to help.
Type 'q()' to quit R.
> library(testthat)
> library(RandomWalkRestartMH)
>
> test_check("RandomWalkRestartMH")
══ testthat results ═══════════════════════════════════════════════════════════
OK: 10 SKIPPED: 0 FAILED: 0
>
> proc.time()
user system elapsed
3.539 0.250 3.787
RandomWalkRestartMH.Rcheck/RandomWalkRestartMH-Ex.timings
| name | user | system | elapsed | |
| Random.Walk.Restart.Multiplex | 0.221 | 0.007 | 0.230 | |
| Random.Walk.Restart.MultiplexHet | 0.254 | 0.004 | 0.258 | |
| compute.adjacency.matrix | 0.038 | 0.001 | 0.038 | |
| compute.transition.matrix | 0.076 | 0.001 | 0.078 | |
| create.multiplex | 0.014 | 0.000 | 0.014 | |
| create.multiplexHet | 0.037 | 0.001 | 0.038 | |
| create.multiplexHetNetwork.topResults | 0.169 | 0.001 | 0.171 | |
| create.multiplexNetwork.topResults | 0.080 | 0.001 | 0.081 | |
| isMultiplex | 0.015 | 0.001 | 0.015 | |
| isMultiplexHet | 0.033 | 0.001 | 0.034 | |
| isRWRMH_Results | 0.153 | 0.001 | 0.155 | |
| isRWRM_Results | 0.086 | 0.001 | 0.087 | |
| normalize.multiplex.adjacency | 0.034 | 0.001 | 0.035 | |