| Back to Multiple platform build/check report for BioC 3.8 | 
 | 
This page was generated on 2019-04-16 11:51:21 -0400 (Tue, 16 Apr 2019).
| Package 1361/1649 | Hostname | OS / Arch | INSTALL | BUILD | CHECK | BUILD BIN | ||||||
| RTCGAToolbox 2.12.1 Marcel Ramos 
 | malbec1 | Linux (Ubuntu 16.04.6 LTS) / x86_64 | OK | OK | [ OK ] |  | ||||||
| merida1 | OS X 10.11.6 El Capitan / x86_64 | OK | OK | OK | OK |  | 
| Package: RTCGAToolbox | 
| Version: 2.12.1 | 
| Command: /home/biocbuild/bbs-3.8-bioc/R/bin/R CMD check --install=check:RTCGAToolbox.install-out.txt --library=/home/biocbuild/bbs-3.8-bioc/R/library --no-vignettes --timings RTCGAToolbox_2.12.1.tar.gz | 
| StartedAt: 2019-04-16 02:47:29 -0400 (Tue, 16 Apr 2019) | 
| EndedAt: 2019-04-16 02:49:59 -0400 (Tue, 16 Apr 2019) | 
| EllapsedTime: 149.7 seconds | 
| RetCode: 0 | 
| Status: OK | 
| CheckDir: RTCGAToolbox.Rcheck | 
| Warnings: 0 | 
##############################################################################
##############################################################################
###
### Running command:
###
###   /home/biocbuild/bbs-3.8-bioc/R/bin/R CMD check --install=check:RTCGAToolbox.install-out.txt --library=/home/biocbuild/bbs-3.8-bioc/R/library --no-vignettes --timings RTCGAToolbox_2.12.1.tar.gz
###
##############################################################################
##############################################################################
* using log directory ‘/home/biocbuild/bbs-3.8-bioc/meat/RTCGAToolbox.Rcheck’
* using R version 3.5.3 (2019-03-11)
* using platform: x86_64-pc-linux-gnu (64-bit)
* using session charset: UTF-8
* using option ‘--no-vignettes’
* checking for file ‘RTCGAToolbox/DESCRIPTION’ ... OK
* checking extension type ... Package
* this is package ‘RTCGAToolbox’ version ‘2.12.1’
* checking package namespace information ... OK
* checking package dependencies ... OK
* checking if this is a source package ... OK
* checking if there is a namespace ... OK
* checking for hidden files and directories ... OK
* checking for portable file names ... OK
* checking for sufficient/correct file permissions ... OK
* checking whether package ‘RTCGAToolbox’ can be installed ... OK
* checking installed package size ... OK
* checking package directory ... OK
* checking ‘build’ directory ... OK
* checking DESCRIPTION meta-information ... OK
* checking top-level files ... OK
* checking for left-over files ... OK
* checking index information ... OK
* checking package subdirectories ... OK
* checking R files for non-ASCII characters ... OK
* checking R files for syntax errors ... OK
* checking whether the package can be loaded ... OK
* checking whether the package can be loaded with stated dependencies ... OK
* checking whether the package can be unloaded cleanly ... OK
* checking whether the namespace can be loaded with stated dependencies ... OK
* checking whether the namespace can be unloaded cleanly ... OK
* checking dependencies in R code ... OK
* checking S3 generic/method consistency ... OK
* checking replacement functions ... OK
* checking foreign function calls ... OK
* checking R code for possible problems ... NOTE
.getGISTIC: no visible global function definition for ‘mcols<-’
Undefined global functions or variables:
  mcols<-
* checking Rd files ... OK
* checking Rd metadata ... OK
* checking Rd cross-references ... OK
* checking for missing documentation entries ... OK
* checking for code/documentation mismatches ... OK
* checking Rd \usage sections ... OK
* checking Rd contents ... OK
* checking for unstated dependencies in examples ... OK
* checking contents of ‘data’ directory ... OK
* checking data for non-ASCII characters ... OK
* checking data for ASCII and uncompressed saves ... OK
* checking files in ‘vignettes’ ... OK
* checking examples ... OK
Examples with CPU or elapsed time > 5s
                user system elapsed
getReport      6.780   0.04   6.828
getGISTICPeaks 4.536   0.78   5.829
* checking for unstated dependencies in vignettes ... OK
* checking package vignettes in ‘inst/doc’ ... OK
* checking running R code from vignettes ... SKIPPED
* checking re-building of vignette outputs ... SKIPPED
* checking PDF version of manual ... OK
* DONE
Status: 1 NOTE
See
  ‘/home/biocbuild/bbs-3.8-bioc/meat/RTCGAToolbox.Rcheck/00check.log’
for details.
RTCGAToolbox.Rcheck/00install.out
############################################################################## ############################################################################## ### ### Running command: ### ### /home/biocbuild/bbs-3.8-bioc/R/bin/R CMD INSTALL RTCGAToolbox ### ############################################################################## ############################################################################## * installing to library ‘/home/biocbuild/bbs-3.8-bioc/R/library’ * installing *source* package ‘RTCGAToolbox’ ... ** R ** data *** moving datasets to lazyload DB ** inst ** byte-compile and prepare package for lazy loading ** help *** installing help indices ** building package indices ** installing vignettes ** testing if installed package can be loaded * DONE (RTCGAToolbox)
RTCGAToolbox.Rcheck/RTCGAToolbox-Ex.timings
| name | user | system | elapsed | |
| biocExtract | 0 | 0 | 0 | |
| getBroadSubtypes | 0.008 | 0.008 | 0.474 | |
| getCNGECorrelation | 1.072 | 0.068 | 1.140 | |
| getData | 0.296 | 0.184 | 0.479 | |
| getDiffExpressedGenes | 0.320 | 0.000 | 0.322 | |
| getFirehoseAnalyzeDates | 0.000 | 0.000 | 0.247 | |
| getFirehoseData | 0.040 | 0.000 | 0.042 | |
| getFirehoseDatasets | 0.004 | 0.000 | 0.147 | |
| getFirehoseRunningDates | 0.004 | 0.000 | 0.392 | |
| getGISTICPeaks | 4.536 | 0.780 | 5.829 | |
| getMutationRate | 0.060 | 0.000 | 0.061 | |
| getReport | 6.780 | 0.040 | 6.828 | |
| getSurvival | 0.096 | 0.000 | 0.099 | |
| showResults-CorResult | 0.900 | 0.008 | 0.925 | |
| showResults-DGEResult | 0.168 | 0.000 | 0.172 | |
| showResults | 0.192 | 0.000 | 0.195 | |