| Back to Multiple platform build/check report for BioC 3.8 | 
 | 
This page was generated on 2019-04-16 11:56:50 -0400 (Tue, 16 Apr 2019).
| Package 1340/1649 | Hostname | OS / Arch | INSTALL | BUILD | CHECK | BUILD BIN | ||||||
| ROntoTools 2.10.0 Calin Voichita 
 | malbec1 | Linux (Ubuntu 16.04.6 LTS) / x86_64 | OK | OK | OK |  | ||||||
| merida1 | OS X 10.11.6 El Capitan / x86_64 | OK | OK | OK | [ OK ] |  | 
| Package: ROntoTools | 
| Version: 2.10.0 | 
| Command: rm -rf ROntoTools.buildbin-libdir && mkdir ROntoTools.buildbin-libdir && /Users/biocbuild/BBS/utils/build-universal.sh ROntoTools_2.10.0.tar.gz /Library/Frameworks/R.framework/Versions/Current/Resources/bin/R ROntoTools.buildbin-libdir | 
| StartedAt: 2019-04-16 04:40:21 -0400 (Tue, 16 Apr 2019) | 
| EndedAt: 2019-04-16 04:40:53 -0400 (Tue, 16 Apr 2019) | 
| EllapsedTime: 32.0 seconds | 
| RetCode: 0 | 
| Status: OK | 
| PackageFile: ROntoTools_2.10.0.tgz | 
| PackageFileSize: 1.503 MiB | 
############################################################################## ############################################################################## ### ### Running command: ### ### rm -rf ROntoTools.buildbin-libdir && mkdir ROntoTools.buildbin-libdir && /Users/biocbuild/BBS/utils/build-universal.sh ROntoTools_2.10.0.tar.gz /Library/Frameworks/R.framework/Versions/Current/Resources/bin/R ROntoTools.buildbin-libdir ### ############################################################################## ############################################################################## >>>>>>> >>>>>>> INSTALLATION WITH 'R CMD INSTALL --preclean --no-multiarch --library=ROntoTools.buildbin-libdir ROntoTools_2.10.0.tar.gz' >>>>>>> * installing *source* package ‘ROntoTools’ ... ** R ** inst ** byte-compile and prepare package for lazy loading ** help *** installing help indices ** building package indices ** installing vignettes ** testing if installed package can be loaded * DONE (ROntoTools)