| Back to Multiple platform build/check report for BioC 3.8 | 
 | 
This page was generated on 2019-04-16 11:53:50 -0400 (Tue, 16 Apr 2019).
| Package 1332/1649 | Hostname | OS / Arch | INSTALL | BUILD | CHECK | BUILD BIN | ||||||
| RNASeqR 1.0.3 Kuan-Hao Chao 
 | malbec1 | Linux (Ubuntu 16.04.6 LTS) / x86_64 | OK | [ OK ] | OK |  | ||||||
| merida1 | OS X 10.11.6 El Capitan / x86_64 | OK | OK | OK | OK |  | 
| Package: RNASeqR | 
| Version: 1.0.3 | 
| Command: /home/biocbuild/bbs-3.8-bioc/R/bin/R CMD build --keep-empty-dirs --no-resave-data RNASeqR | 
| StartedAt: 2019-04-15 21:56:26 -0400 (Mon, 15 Apr 2019) | 
| EndedAt: 2019-04-15 22:04:19 -0400 (Mon, 15 Apr 2019) | 
| EllapsedTime: 473.1 seconds | 
| RetCode: 0 | 
| Status: OK | 
| PackageFile: RNASeqR_1.0.3.tar.gz | 
| PackageFileSize: 7.117 MiB | 
############################################################################## ############################################################################## ### ### Running command: ### ### /home/biocbuild/bbs-3.8-bioc/R/bin/R CMD build --keep-empty-dirs --no-resave-data RNASeqR ### ############################################################################## ############################################################################## * checking for file ‘RNASeqR/DESCRIPTION’ ... OK * preparing ‘RNASeqR’: * checking DESCRIPTION meta-information ... OK * installing the package to build vignettes * creating vignettes ... OK * checking for LF line-endings in source and make files and shell scripts * checking for empty or unneeded directories * looking to see if a ‘data/datalist’ file should be added * building ‘RNASeqR_1.0.3.tar.gz’