| Back to Multiple platform build/check report for BioC 3.8 |
|
This page was generated on 2019-04-16 11:56:23 -0400 (Tue, 16 Apr 2019).
| Package 1297/1649 | Hostname | OS / Arch | INSTALL | BUILD | CHECK | BUILD BIN | ||||||
| RGalaxy 1.26.0 Bioconductor Package Maintainer
| malbec1 | Linux (Ubuntu 16.04.6 LTS) / x86_64 | OK | OK | OK | |||||||
| merida1 | OS X 10.11.6 El Capitan / x86_64 | OK | OK | OK | [ OK ] |
| Package: RGalaxy |
| Version: 1.26.0 |
| Command: rm -rf RGalaxy.buildbin-libdir && mkdir RGalaxy.buildbin-libdir && /Users/biocbuild/BBS/utils/build-universal.sh RGalaxy_1.26.0.tar.gz /Library/Frameworks/R.framework/Versions/Current/Resources/bin/R RGalaxy.buildbin-libdir |
| StartedAt: 2019-04-16 04:38:20 -0400 (Tue, 16 Apr 2019) |
| EndedAt: 2019-04-16 04:39:02 -0400 (Tue, 16 Apr 2019) |
| EllapsedTime: 42.1 seconds |
| RetCode: 0 |
| Status: OK |
| PackageFile: RGalaxy_1.26.0.tgz |
| PackageFileSize: 380.9 KiB |
############################################################################## ############################################################################## ### ### Running command: ### ### rm -rf RGalaxy.buildbin-libdir && mkdir RGalaxy.buildbin-libdir && /Users/biocbuild/BBS/utils/build-universal.sh RGalaxy_1.26.0.tar.gz /Library/Frameworks/R.framework/Versions/Current/Resources/bin/R RGalaxy.buildbin-libdir ### ############################################################################## ############################################################################## >>>>>>> >>>>>>> INSTALLATION WITH 'R CMD INSTALL --preclean --no-multiarch --library=RGalaxy.buildbin-libdir RGalaxy_1.26.0.tar.gz' >>>>>>> * installing *source* package ‘RGalaxy’ ... ** R ** inst ** byte-compile and prepare package for lazy loading ** help *** installing help indices ** building package indices ** installing vignettes ** testing if installed package can be loaded * DONE (RGalaxy)