| Back to Multiple platform build/check report for BioC 3.8 | 
 | 
This page was generated on 2019-04-16 11:53:13 -0400 (Tue, 16 Apr 2019).
| Package 1299/1649 | Hostname | OS / Arch | INSTALL | BUILD | CHECK | BUILD BIN | ||||||
| RGMQL 1.2.0 Simone Pallotta 
 | malbec1 | Linux (Ubuntu 16.04.6 LTS) / x86_64 | OK | [ OK ] | OK |  | ||||||
| merida1 | OS X 10.11.6 El Capitan / x86_64 | OK | OK | WARNINGS | OK |  | 
| Package: RGMQL | 
| Version: 1.2.0 | 
| Command: /home/biocbuild/bbs-3.8-bioc/R/bin/R CMD build --keep-empty-dirs --no-resave-data RGMQL | 
| StartedAt: 2019-04-15 21:34:50 -0400 (Mon, 15 Apr 2019) | 
| EndedAt: 2019-04-15 21:35:45 -0400 (Mon, 15 Apr 2019) | 
| EllapsedTime: 55.1 seconds | 
| RetCode: 0 | 
| Status: OK | 
| PackageFile: RGMQL_1.2.0.tar.gz | 
| PackageFileSize: 2.915 MiB | 
############################################################################## ############################################################################## ### ### Running command: ### ### /home/biocbuild/bbs-3.8-bioc/R/bin/R CMD build --keep-empty-dirs --no-resave-data RGMQL ### ############################################################################## ############################################################################## * checking for file ‘RGMQL/DESCRIPTION’ ... OK * preparing ‘RGMQL’: * checking DESCRIPTION meta-information ... OK * installing the package to build vignettes * creating vignettes ... OK * checking for LF line-endings in source and make files and shell scripts * checking for empty or unneeded directories * building ‘RGMQL_1.2.0.tar.gz’