| Back to Multiple platform build/check report for BioC 3.8 |
|
This page was generated on 2019-04-13 11:21:21 -0400 (Sat, 13 Apr 2019).
| Package 1274/1649 | Hostname | OS / Arch | INSTALL | BUILD | CHECK | BUILD BIN | ||||||
| RDRToolbox 1.32.0 Christoph Bartenhagen
| malbec1 | Linux (Ubuntu 16.04.6 LTS) / x86_64 | OK | OK | OK | |||||||
| tokay1 | Windows Server 2012 R2 Standard / x64 | [ OK ] | OK | OK | OK | |||||||
| merida1 | OS X 10.11.6 El Capitan / x86_64 | OK | OK | WARNINGS | OK |
| Package: RDRToolbox |
| Version: 1.32.0 |
| Command: C:\cygwin\bin\curl.exe -O https://malbec1.bioconductor.org/BBS/3.8/bioc/src/contrib/RDRToolbox_1.32.0.tar.gz && rm -rf RDRToolbox.buildbin-libdir && mkdir RDRToolbox.buildbin-libdir && C:\Users\biocbuild\bbs-3.8-bioc\R\bin\R.exe CMD INSTALL --merge-multiarch --build --library=RDRToolbox.buildbin-libdir RDRToolbox_1.32.0.tar.gz && C:\Users\biocbuild\bbs-3.8-bioc\R\bin\R.exe CMD INSTALL RDRToolbox_1.32.0.zip && rm RDRToolbox_1.32.0.tar.gz RDRToolbox_1.32.0.zip |
| StartedAt: 2019-04-12 18:51:00 -0400 (Fri, 12 Apr 2019) |
| EndedAt: 2019-04-12 18:52:46 -0400 (Fri, 12 Apr 2019) |
| EllapsedTime: 106.1 seconds |
| RetCode: 0 |
| Status: OK |
##############################################################################
##############################################################################
###
### Running command:
###
### C:\cygwin\bin\curl.exe -O https://malbec1.bioconductor.org/BBS/3.8/bioc/src/contrib/RDRToolbox_1.32.0.tar.gz && rm -rf RDRToolbox.buildbin-libdir && mkdir RDRToolbox.buildbin-libdir && C:\Users\biocbuild\bbs-3.8-bioc\R\bin\R.exe CMD INSTALL --merge-multiarch --build --library=RDRToolbox.buildbin-libdir RDRToolbox_1.32.0.tar.gz && C:\Users\biocbuild\bbs-3.8-bioc\R\bin\R.exe CMD INSTALL RDRToolbox_1.32.0.zip && rm RDRToolbox_1.32.0.tar.gz RDRToolbox_1.32.0.zip
###
##############################################################################
##############################################################################
% Total % Received % Xferd Average Speed Time Time Time Current
Dload Upload Total Spent Left Speed
0 0 0 0 0 0 0 0 --:--:-- --:--:-- --:--:-- 0
100 43994 100 43994 0 0 1120k 0 --:--:-- --:--:-- --:--:-- 1227k
install for i386
* installing *source* package 'RDRToolbox' ...
** R
** byte-compile and prepare package for lazy loading
** help
*** installing help indices
converting help for package 'RDRToolbox'
finding HTML links ... done
DBIndex html
Isomap html
LLE html
SwissRoll html
generateData html
plotDR html
** building package indices
** installing vignettes
** testing if installed package can be loaded
In R CMD INSTALL
install for x64
* installing *source* package 'RDRToolbox' ...
** testing if installed package can be loaded
* MD5 sums
packaged installation of 'RDRToolbox' as RDRToolbox_1.32.0.zip
* DONE (RDRToolbox)
In R CMD INSTALL
In R CMD INSTALL
* installing to library 'C:/Users/biocbuild/bbs-3.8-bioc/R/library'
package 'RDRToolbox' successfully unpacked and MD5 sums checked
In R CMD INSTALL