| Back to Multiple platform build/check report for BioC 3.8 | 
  | 
This page was generated on 2019-04-16 11:58:29 -0400 (Tue, 16 Apr 2019).
| Package 1256/1649 | Hostname | OS / Arch | INSTALL | BUILD | CHECK | BUILD BIN | ||||||
| RBM 1.14.0 Dongmei Li 
  | malbec1 | Linux (Ubuntu 16.04.6 LTS) / x86_64 | OK | OK | OK | |||||||
| merida1 | OS X 10.11.6 El Capitan / x86_64 | OK | OK | OK | [ OK ] | 
| Package: RBM | 
| Version: 1.14.0 | 
| Command: rm -rf RBM.buildbin-libdir && mkdir RBM.buildbin-libdir && /Users/biocbuild/BBS/utils/build-universal.sh RBM_1.14.0.tar.gz /Library/Frameworks/R.framework/Versions/Current/Resources/bin/R RBM.buildbin-libdir | 
| StartedAt: 2019-04-16 04:36:23 -0400 (Tue, 16 Apr 2019) | 
| EndedAt: 2019-04-16 04:37:01 -0400 (Tue, 16 Apr 2019) | 
| EllapsedTime: 37.8 seconds | 
| RetCode: 0 | 
| Status: OK | 
| PackageFile: RBM_1.14.0.tgz | 
| PackageFileSize: 337 KiB | 
############################################################################## ############################################################################## ### ### Running command: ### ### rm -rf RBM.buildbin-libdir && mkdir RBM.buildbin-libdir && /Users/biocbuild/BBS/utils/build-universal.sh RBM_1.14.0.tar.gz /Library/Frameworks/R.framework/Versions/Current/Resources/bin/R RBM.buildbin-libdir ### ############################################################################## ############################################################################## >>>>>>> >>>>>>> INSTALLATION WITH 'R CMD INSTALL --preclean --no-multiarch --library=RBM.buildbin-libdir RBM_1.14.0.tar.gz' >>>>>>> * installing *source* package ‘RBM’ ... ** R ** data ** inst ** byte-compile and prepare package for lazy loading ** help *** installing help indices ** building package indices ** installing vignettes ** testing if installed package can be loaded * DONE (RBM)