| Back to Multiple platform build/check report for BioC 3.8 |
|
This page was generated on 2019-04-16 11:55:22 -0400 (Tue, 16 Apr 2019).
| Package 1240/1649 | Hostname | OS / Arch | INSTALL | BUILD | CHECK | BUILD BIN | ||||||
| R453Plus1Toolbox 1.32.0 Hans-Ulrich Klein
| malbec1 | Linux (Ubuntu 16.04.6 LTS) / x86_64 | OK | OK | OK | |||||||
| merida1 | OS X 10.11.6 El Capitan / x86_64 | OK | OK | [ OK ] | OK |
| Package: R453Plus1Toolbox |
| Version: 1.32.0 |
| Command: /Library/Frameworks/R.framework/Versions/Current/Resources/bin/R CMD check --install=check:R453Plus1Toolbox.install-out.txt --library=/Library/Frameworks/R.framework/Versions/Current/Resources/library --no-vignettes --timings R453Plus1Toolbox_1.32.0.tar.gz |
| StartedAt: 2019-04-16 02:10:22 -0400 (Tue, 16 Apr 2019) |
| EndedAt: 2019-04-16 02:16:40 -0400 (Tue, 16 Apr 2019) |
| EllapsedTime: 378.3 seconds |
| RetCode: 0 |
| Status: OK |
| CheckDir: R453Plus1Toolbox.Rcheck |
| Warnings: 0 |
##############################################################################
##############################################################################
###
### Running command:
###
### /Library/Frameworks/R.framework/Versions/Current/Resources/bin/R CMD check --install=check:R453Plus1Toolbox.install-out.txt --library=/Library/Frameworks/R.framework/Versions/Current/Resources/library --no-vignettes --timings R453Plus1Toolbox_1.32.0.tar.gz
###
##############################################################################
##############################################################################
* using log directory ‘/Users/biocbuild/bbs-3.8-bioc/meat/R453Plus1Toolbox.Rcheck’
* using R version 3.5.3 (2019-03-11)
* using platform: x86_64-apple-darwin15.6.0 (64-bit)
* using session charset: UTF-8
* using option ‘--no-vignettes’
* checking for file ‘R453Plus1Toolbox/DESCRIPTION’ ... OK
* checking extension type ... Package
* this is package ‘R453Plus1Toolbox’ version ‘1.32.0’
* checking package namespace information ... OK
* checking package dependencies ... OK
* checking if this is a source package ... OK
* checking if there is a namespace ... OK
* checking for hidden files and directories ... OK
* checking for portable file names ... OK
* checking for sufficient/correct file permissions ... OK
* checking whether package ‘R453Plus1Toolbox’ can be installed ... OK
* checking installed package size ... OK
* checking package directory ... OK
* checking ‘build’ directory ... OK
* checking DESCRIPTION meta-information ... OK
* checking top-level files ... OK
* checking for left-over files ... OK
* checking index information ... OK
* checking package subdirectories ... OK
* checking R files for non-ASCII characters ... OK
* checking R files for syntax errors ... OK
* checking whether the package can be loaded ... OK
* checking whether the package can be loaded with stated dependencies ... OK
* checking whether the package can be unloaded cleanly ... OK
* checking whether the namespace can be loaded with stated dependencies ... OK
* checking whether the namespace can be unloaded cleanly ... OK
* checking dependencies in R code ... NOTE
'library' or 'require' call to ‘BSgenome.Hsapiens.UCSC.hg19’ in package code.
Please use :: or requireNamespace() instead.
See section 'Suggested packages' in the 'Writing R Extensions' manual.
* checking S3 generic/method consistency ... OK
* checking replacement functions ... OK
* checking foreign function calls ... OK
* checking R code for possible problems ... NOTE
.annotateVariants_MapperSet: no visible binding for global variable
‘Hsapiens’
.ava2vcf: no visible binding for global variable ‘Hsapiens’
.detectBreakpoints: no visible binding for global variable ‘Hsapiens’
.getEnsemblInfo: no visible binding for global variable ‘cds_length’
.getEnsemblInfo: no visible binding for global variable
‘ensembl_transcript_id’
.getMutations: no visible binding for global variable ‘PatternStart’
.getMutations: no visible binding for global variable ‘PatternEnd’
.htmlReport: no visible binding for global variable ‘VarFreqForward’
.htmlReport: no visible binding for global variable ‘VarFreqReverse’
.plotVariants: no visible binding for global variable ‘mutation’
qualityReportSFF: no visible binding for '<<-' assignment to ‘tmp’
annotateVariants,MapperSet-BSgenome: no visible binding for global
variable ‘Hsapiens’
annotateVariants,MapperSet-missing: no visible binding for global
variable ‘Hsapiens’
ava2vcf,AVASet: no visible binding for global variable ‘Hsapiens’
detectBreakpoints,list: no visible binding for global variable
‘Hsapiens’
subset,AVASet: no visible binding for global variable ‘referenceSeqID’
Undefined global functions or variables:
Hsapiens PatternEnd PatternStart VarFreqForward VarFreqReverse
cds_length ensembl_transcript_id mutation referenceSeqID
* checking Rd files ... OK
* checking Rd metadata ... OK
* checking Rd cross-references ... OK
* checking for missing documentation entries ... OK
* checking for code/documentation mismatches ... OK
* checking Rd \usage sections ... OK
* checking Rd contents ... OK
* checking for unstated dependencies in examples ... OK
* checking contents of ‘data’ directory ... OK
* checking data for non-ASCII characters ... OK
* checking data for ASCII and uncompressed saves ... OK
* checking line endings in C/C++/Fortran sources/headers ... OK
* checking compiled code ... NOTE
Note: information on .o files is not available
* checking sizes of PDF files under ‘inst/doc’ ... OK
* checking files in ‘vignettes’ ... OK
* checking examples ... OK
Examples with CPU or elapsed time > 5s
user system elapsed
mergeBreakpoints 7.13 0.187 7.376
* checking for unstated dependencies in vignettes ... OK
* checking package vignettes in ‘inst/doc’ ... OK
* checking running R code from vignettes ... SKIPPED
* checking re-building of vignette outputs ... SKIPPED
* checking PDF version of manual ... OK
* DONE
Status: 3 NOTEs
See
‘/Users/biocbuild/bbs-3.8-bioc/meat/R453Plus1Toolbox.Rcheck/00check.log’
for details.
R453Plus1Toolbox.Rcheck/00install.out
############################################################################## ############################################################################## ### ### Running command: ### ### /Library/Frameworks/R.framework/Versions/Current/Resources/bin/R CMD INSTALL R453Plus1Toolbox ### ############################################################################## ############################################################################## * installing to library ‘/Library/Frameworks/R.framework/Versions/3.5/Resources/library’ * installing *source* package ‘R453Plus1Toolbox’ ... ** libs clang -I"/Library/Frameworks/R.framework/Resources/include" -DNDEBUG -I/usr/local/include -fPIC -Wall -g -O2 -c readSFF.c -o readSFF.o clang -I"/Library/Frameworks/R.framework/Resources/include" -DNDEBUG -I/usr/local/include -fPIC -Wall -g -O2 -c writeSFF.c -o writeSFF.o clang -dynamiclib -Wl,-headerpad_max_install_names -undefined dynamic_lookup -single_module -multiply_defined suppress -L/Library/Frameworks/R.framework/Resources/lib -L/usr/local/lib -o R453Plus1Toolbox.so readSFF.o writeSFF.o -F/Library/Frameworks/R.framework/.. -framework R -Wl,-framework -Wl,CoreFoundation installing to /Library/Frameworks/R.framework/Versions/3.5/Resources/library/R453Plus1Toolbox/libs ** R ** data ** inst ** byte-compile and prepare package for lazy loading ** help *** installing help indices ** building package indices ** installing vignettes ** testing if installed package can be loaded * DONE (R453Plus1Toolbox)
R453Plus1Toolbox.Rcheck/R453Plus1Toolbox-Ex.timings
| name | user | system | elapsed | |
| AVASet-class | 0.263 | 0.009 | 0.279 | |
| AVASet | 0.220 | 0.022 | 0.243 | |
| AnnotatedVariants-class | 0.001 | 0.001 | 0.002 | |
| MapperSet-class | 0.034 | 0.012 | 0.046 | |
| MapperSet | 0.007 | 0.003 | 0.010 | |
| SFFContainer-class | 0.001 | 0.000 | 0.001 | |
| SFFRead-class | 0.001 | 0.000 | 0.002 | |
| alignShortReads | 1.759 | 0.015 | 1.794 | |
| annotateVariants | 0.001 | 0.000 | 0.002 | |
| assayDataAmp | 0.005 | 0.002 | 0.006 | |
| ava2vcf | 0.301 | 0.008 | 0.312 | |
| avaSetExample | 0.020 | 0.003 | 0.024 | |
| avaSetFiltered | 0.025 | 0.002 | 0.026 | |
| avaSetFiltered_annot | 0.003 | 0.003 | 0.005 | |
| breakpoints | 0.007 | 0.002 | 0.009 | |
| calculateTiTv | 0.012 | 0.003 | 0.015 | |
| captureArray | 0.003 | 0.002 | 0.005 | |
| coverageOnTarget | 0.220 | 0.016 | 0.238 | |
| demultiplexReads | 0.127 | 0.015 | 0.143 | |
| detectBreakpoints | 0.933 | 0.093 | 1.035 | |
| fDataAmp | 0.023 | 0.003 | 0.025 | |
| featureDataAmp | 0.020 | 0.002 | 0.022 | |
| filterChimericReads | 3.325 | 0.027 | 3.379 | |
| genomeSequencerMIDs | 0.035 | 0.004 | 0.040 | |
| getAlignedReads | 0.092 | 0.008 | 0.101 | |
| getVariantPercentages | 0.032 | 0.004 | 0.037 | |
| htmlReport | 4.173 | 0.458 | 4.682 | |
| mapperSetExample | 0.005 | 0.001 | 0.007 | |
| mergeBreakpoints | 7.130 | 0.187 | 7.376 | |
| mutationInfo | 0.003 | 0.002 | 0.004 | |
| plotAmpliconCoverage | 0 | 0 | 0 | |
| plotChimericReads | 2.818 | 0.023 | 2.865 | |
| plotVariants | 0.005 | 0.000 | 0.010 | |
| plotVariationFrequency | 0.000 | 0.001 | 0.000 | |
| qualityReportSFF | 0 | 0 | 0 | |
| readSFF | 0.112 | 0.002 | 0.115 | |
| readsOnTarget | 0.052 | 0.003 | 0.055 | |
| referenceSequences | 0.008 | 0.002 | 0.011 | |
| regions | 0.005 | 0.003 | 0.008 | |
| removeLinker | 0.039 | 0.001 | 0.040 | |
| sequenceCaptureLinkers | 0.007 | 0.000 | 0.008 | |
| setVariantFilter | 0.067 | 0.003 | 0.072 | |
| variants | 0.002 | 0.001 | 0.004 | |
| writeSFF | 0.036 | 0.001 | 0.038 | |