| Back to Multiple platform build/check report for BioC 3.8 | 
 | 
This page was generated on 2019-04-16 11:51:17 -0400 (Tue, 16 Apr 2019).
| Package 1238/1649 | Hostname | OS / Arch | INSTALL | BUILD | CHECK | BUILD BIN | ||||||
| R3CPET 1.14.0 Mohamed Nadhir Djekidel 
 | malbec1 | Linux (Ubuntu 16.04.6 LTS) / x86_64 | OK | [ OK ] | OK |  | ||||||
| merida1 | OS X 10.11.6 El Capitan / x86_64 | OK | OK | OK | OK |  | 
| Package: R3CPET | 
| Version: 1.14.0 | 
| Command: /home/biocbuild/bbs-3.8-bioc/R/bin/R CMD build --keep-empty-dirs --no-resave-data R3CPET | 
| StartedAt: 2019-04-15 20:09:00 -0400 (Mon, 15 Apr 2019) | 
| EndedAt: 2019-04-15 20:10:44 -0400 (Mon, 15 Apr 2019) | 
| EllapsedTime: 104.3 seconds | 
| RetCode: 0 | 
| Status: OK | 
| PackageFile: R3CPET_1.14.0.tar.gz | 
| PackageFileSize: 5.292 MiB | 
##############################################################################
##############################################################################
###
### Running command:
###
###   /home/biocbuild/bbs-3.8-bioc/R/bin/R CMD build --keep-empty-dirs --no-resave-data R3CPET
###
##############################################################################
##############################################################################
* checking for file ‘R3CPET/DESCRIPTION’ ... OK
* preparing ‘R3CPET’:
* checking DESCRIPTION meta-information ... OK
* cleaning src
* installing the package to build vignettes
* creating vignettes ... OK
Warning: ‘inst/doc’ files
    ‘R3CPET.Rnw’, ‘R3CPET.pdf’, ‘R3CPET.R’
  ignored as vignettes have been rebuilt.
  Run R CMD build with --no-build-vignettes to prevent rebuilding.
* cleaning src
* checking for LF line-endings in source and make files and shell scripts
* checking for empty or unneeded directories
* looking to see if a ‘data/datalist’ file should be added
* building ‘R3CPET_1.14.0.tar.gz’