| Back to Multiple platform build/check report for BioC 3.8 | 
 | 
This page was generated on 2019-04-16 11:51:46 -0400 (Tue, 16 Apr 2019).
| Package 1234/1649 | Hostname | OS / Arch | INSTALL | BUILD | CHECK | BUILD BIN | ||||||
| QuaternaryProd 1.16.0 Carl Tony Fakhry 
 | malbec1 | Linux (Ubuntu 16.04.6 LTS) / x86_64 | OK | OK | [ OK ] |  | ||||||
| merida1 | OS X 10.11.6 El Capitan / x86_64 | OK | OK | OK | OK |  | 
| Package: QuaternaryProd | 
| Version: 1.16.0 | 
| Command: /home/biocbuild/bbs-3.8-bioc/R/bin/R CMD check --install=check:QuaternaryProd.install-out.txt --library=/home/biocbuild/bbs-3.8-bioc/R/library --no-vignettes --timings QuaternaryProd_1.16.0.tar.gz | 
| StartedAt: 2019-04-16 02:20:28 -0400 (Tue, 16 Apr 2019) | 
| EndedAt: 2019-04-16 02:21:17 -0400 (Tue, 16 Apr 2019) | 
| EllapsedTime: 48.2 seconds | 
| RetCode: 0 | 
| Status: OK | 
| CheckDir: QuaternaryProd.Rcheck | 
| Warnings: 0 | 
##############################################################################
##############################################################################
###
### Running command:
###
###   /home/biocbuild/bbs-3.8-bioc/R/bin/R CMD check --install=check:QuaternaryProd.install-out.txt --library=/home/biocbuild/bbs-3.8-bioc/R/library --no-vignettes --timings QuaternaryProd_1.16.0.tar.gz
###
##############################################################################
##############################################################################
* using log directory ‘/home/biocbuild/bbs-3.8-bioc/meat/QuaternaryProd.Rcheck’
* using R version 3.5.3 (2019-03-11)
* using platform: x86_64-pc-linux-gnu (64-bit)
* using session charset: UTF-8
* using option ‘--no-vignettes’
* checking for file ‘QuaternaryProd/DESCRIPTION’ ... OK
* checking extension type ... Package
* this is package ‘QuaternaryProd’ version ‘1.16.0’
* package encoding: UTF-8
* checking package namespace information ... OK
* checking package dependencies ... OK
* checking if this is a source package ... OK
* checking if there is a namespace ... OK
* checking for hidden files and directories ... OK
* checking for portable file names ... OK
* checking for sufficient/correct file permissions ... OK
* checking whether package ‘QuaternaryProd’ can be installed ... OK
* checking installed package size ... NOTE
  installed size is 17.4Mb
  sub-directories of 1Mb or more:
    extdata  15.3Mb
    libs      1.9Mb
* checking package directory ... OK
* checking ‘build’ directory ... OK
* checking DESCRIPTION meta-information ... OK
* checking top-level files ... OK
* checking for left-over files ... OK
* checking index information ... OK
* checking package subdirectories ... OK
* checking R files for non-ASCII characters ... OK
* checking R files for syntax errors ... OK
* checking whether the package can be loaded ... OK
* checking whether the package can be loaded with stated dependencies ... OK
* checking whether the package can be unloaded cleanly ... OK
* checking whether the namespace can be loaded with stated dependencies ... OK
* checking whether the namespace can be unloaded cleanly ... OK
* checking dependencies in R code ... OK
* checking S3 generic/method consistency ... OK
* checking replacement functions ... OK
* checking foreign function calls ... OK
* checking R code for possible problems ... OK
* checking Rd files ... OK
* checking Rd metadata ... OK
* checking Rd cross-references ... OK
* checking for missing documentation entries ... OK
* checking for code/documentation mismatches ... OK
* checking Rd \usage sections ... OK
* checking Rd contents ... OK
* checking for unstated dependencies in examples ... OK
* checking line endings in C/C++/Fortran sources/headers ... OK
* checking compiled code ... NOTE
Note: information on .o files is not available
* checking files in ‘vignettes’ ... OK
* checking examples ... OK
Examples with CPU or elapsed time > 5s
                     user system elapsed
RunCRE_HSAStringDB 22.824  0.112  23.001
* checking for unstated dependencies in vignettes ... OK
* checking package vignettes in ‘inst/doc’ ... OK
* checking running R code from vignettes ... SKIPPED
* checking re-building of vignette outputs ... SKIPPED
* checking PDF version of manual ... OK
* DONE
Status: 2 NOTEs
See
  ‘/home/biocbuild/bbs-3.8-bioc/meat/QuaternaryProd.Rcheck/00check.log’
for details.
QuaternaryProd.Rcheck/00install.out
############################################################################## ############################################################################## ### ### Running command: ### ### /home/biocbuild/bbs-3.8-bioc/R/bin/R CMD INSTALL QuaternaryProd ### ############################################################################## ############################################################################## * installing to library ‘/home/biocbuild/bbs-3.8-bioc/R/library’ * installing *source* package ‘QuaternaryProd’ ... ** libs g++ -I"/home/biocbuild/bbs-3.8-bioc/R/include" -DNDEBUG -I"/home/biocbuild/bbs-3.8-bioc/R/library/Rcpp/include" -I/usr/local/include -fpic -g -O2 -Wall -c QuaternaryProd.cpp -o QuaternaryProd.o g++ -I"/home/biocbuild/bbs-3.8-bioc/R/include" -DNDEBUG -I"/home/biocbuild/bbs-3.8-bioc/R/library/Rcpp/include" -I/usr/local/include -fpic -g -O2 -Wall -c QuaternaryProdUtils.cpp -o QuaternaryProdUtils.o g++ -I"/home/biocbuild/bbs-3.8-bioc/R/include" -DNDEBUG -I"/home/biocbuild/bbs-3.8-bioc/R/library/Rcpp/include" -I/usr/local/include -fpic -g -O2 -Wall -c RcppExports.cpp -o RcppExports.o g++ -shared -L/home/biocbuild/bbs-3.8-bioc/R/lib -L/usr/local/lib -o QuaternaryProd.so QuaternaryProd.o QuaternaryProdUtils.o RcppExports.o -L/home/biocbuild/bbs-3.8-bioc/R/lib -lR installing to /home/biocbuild/bbs-3.8-bioc/R/library/QuaternaryProd/libs ** R ** inst ** byte-compile and prepare package for lazy loading ** help *** installing help indices ** building package indices ** installing vignettes ** testing if installed package can be loaded * DONE (QuaternaryProd)
QuaternaryProd.Rcheck/QuaternaryProd-Ex.timings
| name | user | system | elapsed | |
| QP_Pmf | 0.416 | 0.000 | 0.413 | |
| QP_Probability | 0.008 | 0.000 | 0.008 | |
| QP_Pvalue | 0.048 | 0.000 | 0.047 | |
| QP_SigPvalue | 0.044 | 0.000 | 0.044 | |
| QP_Support | 0.004 | 0.000 | 0.004 | |
| RunCRE_HSAStringDB | 22.824 | 0.112 | 23.001 | |