| Back to Multiple platform build/check report for BioC 3.8 |
|
This page was generated on 2019-04-13 11:24:55 -0400 (Sat, 13 Apr 2019).
| Package 1209/1649 | Hostname | OS / Arch | INSTALL | BUILD | CHECK | BUILD BIN | ||||||
| ProtGenerics 1.14.0 Laurent Gatto
| malbec1 | Linux (Ubuntu 16.04.6 LTS) / x86_64 | OK | OK | OK | |||||||
| tokay1 | Windows Server 2012 R2 Standard / x64 | [ OK ] | OK | WARNINGS | OK | |||||||
| merida1 | OS X 10.11.6 El Capitan / x86_64 | OK | OK | OK | OK |
| Package: ProtGenerics |
| Version: 1.14.0 |
| Command: C:\cygwin\bin\curl.exe -O https://malbec1.bioconductor.org/BBS/3.8/bioc/src/contrib/ProtGenerics_1.14.0.tar.gz && rm -rf ProtGenerics.buildbin-libdir && mkdir ProtGenerics.buildbin-libdir && C:\Users\biocbuild\bbs-3.8-bioc\R\bin\R.exe CMD INSTALL --merge-multiarch --build --library=ProtGenerics.buildbin-libdir ProtGenerics_1.14.0.tar.gz && C:\Users\biocbuild\bbs-3.8-bioc\R\bin\R.exe CMD INSTALL ProtGenerics_1.14.0.zip && rm ProtGenerics_1.14.0.tar.gz ProtGenerics_1.14.0.zip |
| StartedAt: 2019-04-12 18:26:48 -0400 (Fri, 12 Apr 2019) |
| EndedAt: 2019-04-12 18:27:07 -0400 (Fri, 12 Apr 2019) |
| EllapsedTime: 18.2 seconds |
| RetCode: 0 |
| Status: OK |
##############################################################################
##############################################################################
###
### Running command:
###
### C:\cygwin\bin\curl.exe -O https://malbec1.bioconductor.org/BBS/3.8/bioc/src/contrib/ProtGenerics_1.14.0.tar.gz && rm -rf ProtGenerics.buildbin-libdir && mkdir ProtGenerics.buildbin-libdir && C:\Users\biocbuild\bbs-3.8-bioc\R\bin\R.exe CMD INSTALL --merge-multiarch --build --library=ProtGenerics.buildbin-libdir ProtGenerics_1.14.0.tar.gz && C:\Users\biocbuild\bbs-3.8-bioc\R\bin\R.exe CMD INSTALL ProtGenerics_1.14.0.zip && rm ProtGenerics_1.14.0.tar.gz ProtGenerics_1.14.0.zip
###
##############################################################################
##############################################################################
% Total % Received % Xferd Average Speed Time Time Time Current
Dload Upload Total Spent Left Speed
0 0 0 0 0 0 0 0 --:--:-- --:--:-- --:--:-- 0
100 4128 100 4128 0 0 118k 0 --:--:-- --:--:-- --:--:-- 134k
install for i386
* installing *source* package 'ProtGenerics' ...
** R
** byte-compile and prepare package for lazy loading
** help
*** installing help indices
converting help for package 'ProtGenerics'
finding HTML links ... done
protgenerics html
Rd warning: C:/Users/biocbuild/bbs-3.8-bioc/tmpdir/Rtmp6pvBS6/R.INSTALLd184e9c2357/ProtGenerics/man/protgenerics.Rd:129: file link 'selectMethod' in package 'methods' does not exist and so has been treated as a topic
** building package indices
** testing if installed package can be loaded
In R CMD INSTALL
install for x64
* installing *source* package 'ProtGenerics' ...
** testing if installed package can be loaded
* MD5 sums
packaged installation of 'ProtGenerics' as ProtGenerics_1.14.0.zip
* DONE (ProtGenerics)
In R CMD INSTALL
In R CMD INSTALL
* installing to library 'C:/Users/biocbuild/bbs-3.8-bioc/R/library'
package 'ProtGenerics' successfully unpacked and MD5 sums checked
In R CMD INSTALL