| Back to Multiple platform build/check report for BioC 3.8 | 
 | 
This page was generated on 2019-04-16 11:50:13 -0400 (Tue, 16 Apr 2019).
| Package 1194/1649 | Hostname | OS / Arch | INSTALL | BUILD | CHECK | BUILD BIN | ||||||
| ProCoNA 1.20.0 David L Gibbs 
 | malbec1 | Linux (Ubuntu 16.04.6 LTS) / x86_64 | [ OK ] | ERROR | skipped | |||||||
| merida1 | OS X 10.11.6 El Capitan / x86_64 | OK | ERROR | skipped | skipped | 
| Package: ProCoNA | 
| Version: 1.20.0 | 
| Command: /home/biocbuild/bbs-3.8-bioc/R/bin/R CMD INSTALL ProCoNA | 
| StartedAt: 2019-04-15 18:30:18 -0400 (Mon, 15 Apr 2019) | 
| EndedAt: 2019-04-15 18:30:43 -0400 (Mon, 15 Apr 2019) | 
| EllapsedTime: 24.6 seconds | 
| RetCode: 0 | 
| Status: OK | 
############################################################################## ############################################################################## ### ### Running command: ### ### /home/biocbuild/bbs-3.8-bioc/R/bin/R CMD INSTALL ProCoNA ### ############################################################################## ############################################################################## * installing to library ‘/home/biocbuild/bbs-3.8-bioc/R/library’ * installing *source* package ‘ProCoNA’ ... ** R ** data ** inst ** byte-compile and prepare package for lazy loading Note: possible error in 'pickSoftThreshold.fromSimilarity(adj(pnet), ': unused argument (networkType = networkType) ** help *** installing help indices ** building package indices ** installing vignettes ** testing if installed package can be loaded * DONE (ProCoNA)