| Back to Multiple platform build/check report for BioC 3.8 |
|
This page was generated on 2019-04-16 11:59:52 -0400 (Tue, 16 Apr 2019).
| Package 1149/1649 | Hostname | OS / Arch | INSTALL | BUILD | CHECK | BUILD BIN | ||||||
| PharmacoGx 1.12.0 Benjamin Haibe-Kains
| malbec1 | Linux (Ubuntu 16.04.6 LTS) / x86_64 | OK | OK | OK | |||||||
| merida1 | OS X 10.11.6 El Capitan / x86_64 | OK | OK | OK | [ OK ] |
| Package: PharmacoGx |
| Version: 1.12.0 |
| Command: rm -rf PharmacoGx.buildbin-libdir && mkdir PharmacoGx.buildbin-libdir && /Users/biocbuild/BBS/utils/build-universal.sh PharmacoGx_1.12.0.tar.gz /Library/Frameworks/R.framework/Versions/Current/Resources/bin/R PharmacoGx.buildbin-libdir |
| StartedAt: 2019-04-16 04:31:35 -0400 (Tue, 16 Apr 2019) |
| EndedAt: 2019-04-16 04:32:20 -0400 (Tue, 16 Apr 2019) |
| EllapsedTime: 44.4 seconds |
| RetCode: 0 |
| Status: OK |
| PackageFile: PharmacoGx_1.12.0.tgz |
| PackageFileSize: 3.851 MiB |
############################################################################## ############################################################################## ### ### Running command: ### ### rm -rf PharmacoGx.buildbin-libdir && mkdir PharmacoGx.buildbin-libdir && /Users/biocbuild/BBS/utils/build-universal.sh PharmacoGx_1.12.0.tar.gz /Library/Frameworks/R.framework/Versions/Current/Resources/bin/R PharmacoGx.buildbin-libdir ### ############################################################################## ############################################################################## >>>>>>> >>>>>>> INSTALLATION WITH 'R CMD INSTALL --preclean --no-multiarch --library=PharmacoGx.buildbin-libdir PharmacoGx_1.12.0.tar.gz' >>>>>>> * installing *source* package ‘PharmacoGx’ ... ** R ** data ** inst ** byte-compile and prepare package for lazy loading ** help *** installing help indices ** building package indices ** installing vignettes ** testing if installed package can be loaded * DONE (PharmacoGx)