| Back to Multiple platform build/check report for BioC 3.8 | 
 | 
This page was generated on 2019-04-13 11:28:24 -0400 (Sat, 13 Apr 2019).
| Package 1128/1649 | Hostname | OS / Arch | INSTALL | BUILD | CHECK | BUILD BIN | ||||||
| PathwaySplice 1.6.1 Aimin Yan 
 | malbec1 | Linux (Ubuntu 16.04.6 LTS) / x86_64 | OK | OK | OK |  | ||||||
| tokay1 | Windows Server 2012 R2 Standard / x64 | [ OK ] | OK | OK | OK |  | ||||||
| merida1 | OS X 10.11.6 El Capitan / x86_64 | OK | OK | OK | OK |  | 
| Package: PathwaySplice | 
| Version: 1.6.1 | 
| Command: C:\cygwin\bin\curl.exe -O https://malbec1.bioconductor.org/BBS/3.8/bioc/src/contrib/PathwaySplice_1.6.1.tar.gz && rm -rf PathwaySplice.buildbin-libdir && mkdir PathwaySplice.buildbin-libdir && C:\Users\biocbuild\bbs-3.8-bioc\R\bin\R.exe CMD INSTALL --merge-multiarch --build --library=PathwaySplice.buildbin-libdir PathwaySplice_1.6.1.tar.gz && C:\Users\biocbuild\bbs-3.8-bioc\R\bin\R.exe CMD INSTALL PathwaySplice_1.6.1.zip && rm PathwaySplice_1.6.1.tar.gz PathwaySplice_1.6.1.zip | 
| StartedAt: 2019-04-12 20:20:13 -0400 (Fri, 12 Apr 2019) | 
| EndedAt: 2019-04-12 20:21:22 -0400 (Fri, 12 Apr 2019) | 
| EllapsedTime: 68.8 seconds | 
| RetCode: 0 | 
| Status: OK | 
##############################################################################
##############################################################################
###
### Running command:
###
###   C:\cygwin\bin\curl.exe -O https://malbec1.bioconductor.org/BBS/3.8/bioc/src/contrib/PathwaySplice_1.6.1.tar.gz && rm -rf PathwaySplice.buildbin-libdir && mkdir PathwaySplice.buildbin-libdir && C:\Users\biocbuild\bbs-3.8-bioc\R\bin\R.exe CMD INSTALL --merge-multiarch --build --library=PathwaySplice.buildbin-libdir PathwaySplice_1.6.1.tar.gz && C:\Users\biocbuild\bbs-3.8-bioc\R\bin\R.exe CMD INSTALL PathwaySplice_1.6.1.zip && rm PathwaySplice_1.6.1.tar.gz PathwaySplice_1.6.1.zip
###
##############################################################################
##############################################################################
  % Total    % Received % Xferd  Average Speed   Time    Time     Time  Current
                                 Dload  Upload   Total   Spent    Left  Speed
  0     0    0     0    0     0      0      0 --:--:-- --:--:-- --:--:--     0
100 2297k  100 2297k    0     0  33.4M      0 --:--:-- --:--:-- --:--:-- 35.6M
install for i386
* installing *source* package 'PathwaySplice' ...
** R
** data
*** moving datasets to lazyload DB
** inst
** byte-compile and prepare package for lazy loading
** help
*** installing help indices
  converting help for package 'PathwaySplice'
    finding HTML links ... done
    compareResults                          html  
    enrichmentMap                           html  
    featureBasedData                        html  
    gmtGene2Cat                             html  
    lrTestBias                              html  
    makeGeneTable                           html  
    outKegg2Gmt                             html  
    runPathwaySplice                        html  
** building package indices
** installing vignettes
** testing if installed package can be loaded
In R CMD INSTALL
install for x64
* installing *source* package 'PathwaySplice' ...
** testing if installed package can be loaded
* MD5 sums
packaged installation of 'PathwaySplice' as PathwaySplice_1.6.1.zip
* DONE (PathwaySplice)
In R CMD INSTALL
In R CMD INSTALL
* installing to library 'C:/Users/biocbuild/bbs-3.8-bioc/R/library'
package 'PathwaySplice' successfully unpacked and MD5 sums checked
In R CMD INSTALL