| Back to Multiple platform build/check report for BioC 3.8 | 
 | 
This page was generated on 2019-04-16 11:59:14 -0400 (Tue, 16 Apr 2019).
| Package 1116/1649 | Hostname | OS / Arch | INSTALL | BUILD | CHECK | BUILD BIN | ||||||
| PanVizGenerator 1.10.0 Thomas Lin Pedersen 
 | malbec1 | Linux (Ubuntu 16.04.6 LTS) / x86_64 | OK | OK | OK |  | ||||||
| merida1 | OS X 10.11.6 El Capitan / x86_64 | OK | [ OK ] | OK | OK |  | 
| Package: PanVizGenerator | 
| Version: 1.10.0 | 
| Command: /Library/Frameworks/R.framework/Versions/Current/Resources/bin/R CMD build --keep-empty-dirs --no-resave-data PanVizGenerator | 
| StartedAt: 2019-04-15 20:39:52 -0400 (Mon, 15 Apr 2019) | 
| EndedAt: 2019-04-15 20:42:20 -0400 (Mon, 15 Apr 2019) | 
| EllapsedTime: 147.3 seconds | 
| RetCode: 0 | 
| Status: OK | 
| PackageFile: PanVizGenerator_1.10.0.tar.gz | 
| PackageFileSize: 1.742 MiB | 
############################################################################## ############################################################################## ### ### Running command: ### ### /Library/Frameworks/R.framework/Versions/Current/Resources/bin/R CMD build --keep-empty-dirs --no-resave-data PanVizGenerator ### ############################################################################## ############################################################################## * checking for file ‘PanVizGenerator/DESCRIPTION’ ... OK * preparing ‘PanVizGenerator’: * checking DESCRIPTION meta-information ... OK * installing the package to build vignettes * creating vignettes ... OK * checking for LF line-endings in source and make files and shell scripts * checking for empty or unneeded directories WARNING: directory ‘PanVizGenerator/inst/shinyapps’ is empty * building ‘PanVizGenerator_1.10.0.tar.gz’