| Back to Multiple platform build/check report for BioC 3.8 | 
 | 
This page was generated on 2019-04-13 11:19:24 -0400 (Sat, 13 Apr 2019).
| Package 1192/1649 | Hostname | OS / Arch | INSTALL | BUILD | CHECK | BUILD BIN | ||||||
| PROcess 1.58.1 Xiaochun Li 
 | malbec1 | Linux (Ubuntu 16.04.6 LTS) / x86_64 | OK | OK | OK |  | ||||||
| tokay1 | Windows Server 2012 R2 Standard / x64 | OK | OK | OK | [ OK ] |  | ||||||
| merida1 | OS X 10.11.6 El Capitan / x86_64 | OK | OK | OK | OK |  | 
| Package: PROcess | 
| Version: 1.58.1 | 
| Command: rm -rf PROcess.buildbin-libdir && mkdir PROcess.buildbin-libdir && C:\Users\biocbuild\bbs-3.8-bioc\R\bin\R.exe CMD INSTALL --merge-multiarch --build --library=PROcess.buildbin-libdir PROcess_1.58.1.tar.gz | 
| StartedAt: 2019-04-13 07:47:10 -0400 (Sat, 13 Apr 2019) | 
| EndedAt: 2019-04-13 07:47:30 -0400 (Sat, 13 Apr 2019) | 
| EllapsedTime: 20.2 seconds | 
| RetCode: 0 | 
| Status: OK | 
| PackageFile: PROcess_1.58.1.zip | 
| PackageFileSize: 1.886 MiB | 
##############################################################################
##############################################################################
###
### Running command:
###
###   rm -rf PROcess.buildbin-libdir && mkdir PROcess.buildbin-libdir && C:\Users\biocbuild\bbs-3.8-bioc\R\bin\R.exe CMD INSTALL --merge-multiarch --build --library=PROcess.buildbin-libdir PROcess_1.58.1.tar.gz
###
##############################################################################
##############################################################################
install for i386
* installing *source* package 'PROcess' ...
** R
** inst
** byte-compile and prepare package for lazy loading
** help
*** installing help indices
  converting help for package 'PROcess'
    finding HTML links ... done
    align                                   html  
    aveSpec                                 html  
    avesd                                   html  
    binning                                 html  
    bslnoff                                 html  
    gelmap                                  html  
    getMzs                                  html  
    getPeaks                                html  
    getPeaks2                               html  
    intg                                    html  
    is.multiple                             html  
    isPeak                                  html  
    lnn                                     html  
    peaks                                   html  
    pk2bmkr                                 html  
    quality                                 html  
    read.files                              html  
    renorm                                  html  
    rmBaseline                              html  
    specZoom                                html  
** building package indices
** installing vignettes
** testing if installed package can be loaded
In R CMD INSTALL
install for x64
* installing *source* package 'PROcess' ...
** testing if installed package can be loaded
* MD5 sums
packaged installation of 'PROcess' as PROcess_1.58.1.zip
* DONE (PROcess)
In R CMD INSTALL
In R CMD INSTALL