| Back to Multiple platform build/check report for BioC 3.8 |
|
This page was generated on 2019-04-13 11:24:43 -0400 (Sat, 13 Apr 2019).
| Package 1201/1649 | Hostname | OS / Arch | INSTALL | BUILD | CHECK | BUILD BIN | ||||||
| PROPER 1.14.1 Hao Wu
| malbec1 | Linux (Ubuntu 16.04.6 LTS) / x86_64 | OK | OK | WARNINGS | |||||||
| tokay1 | Windows Server 2012 R2 Standard / x64 | OK | OK | WARNINGS | [ OK ] | |||||||
| merida1 | OS X 10.11.6 El Capitan / x86_64 | OK | OK | WARNINGS | OK |
| Package: PROPER |
| Version: 1.14.1 |
| Command: rm -rf PROPER.buildbin-libdir && mkdir PROPER.buildbin-libdir && C:\Users\biocbuild\bbs-3.8-bioc\R\bin\R.exe CMD INSTALL --merge-multiarch --build --library=PROPER.buildbin-libdir PROPER_1.14.1.tar.gz |
| StartedAt: 2019-04-13 07:47:28 -0400 (Sat, 13 Apr 2019) |
| EndedAt: 2019-04-13 07:47:37 -0400 (Sat, 13 Apr 2019) |
| EllapsedTime: 8.7 seconds |
| RetCode: 0 |
| Status: OK |
| PackageFile: PROPER_1.14.1.zip |
| PackageFileSize: 1.57 MiB |
##############################################################################
##############################################################################
###
### Running command:
###
### rm -rf PROPER.buildbin-libdir && mkdir PROPER.buildbin-libdir && C:\Users\biocbuild\bbs-3.8-bioc\R\bin\R.exe CMD INSTALL --merge-multiarch --build --library=PROPER.buildbin-libdir PROPER_1.14.1.tar.gz
###
##############################################################################
##############################################################################
install for i386
* installing *source* package 'PROPER' ...
** R
** data
** inst
** byte-compile and prepare package for lazy loading
** help
*** installing help indices
converting help for package 'PROPER'
finding HTML links ... done
RNAseq.SimOptions.2grp html
comparePower html
estParam html
historicalData html
plotPowerHist html
plots html
power.seqDepth html
runSims html
simRNAseq html
summaryPower html
** building package indices
** installing vignettes
** testing if installed package can be loaded
In R CMD INSTALL
install for x64
* installing *source* package 'PROPER' ...
** testing if installed package can be loaded
* MD5 sums
packaged installation of 'PROPER' as PROPER_1.14.1.zip
* DONE (PROPER)
In R CMD INSTALL
In R CMD INSTALL