| Back to Multiple platform build/check report for BioC 3.8 | 
 | 
This page was generated on 2019-04-13 11:27:29 -0400 (Sat, 13 Apr 2019).
| Package 1178/1649 | Hostname | OS / Arch | INSTALL | BUILD | CHECK | BUILD BIN | ||||||
| POST 1.6.0 Xueyuan Cao 
 | malbec1 | Linux (Ubuntu 16.04.6 LTS) / x86_64 | OK | OK | WARNINGS |  | ||||||
| tokay1 | Windows Server 2012 R2 Standard / x64 | OK | [ OK ] | WARNINGS | OK |  | ||||||
| merida1 | OS X 10.11.6 El Capitan / x86_64 | OK | OK | WARNINGS | OK |  | 
| Package: POST | 
| Version: 1.6.0 | 
| Command: chmod a+r POST -R && C:\Users\biocbuild\bbs-3.8-bioc\R\bin\R.exe CMD build --keep-empty-dirs --no-resave-data POST | 
| StartedAt: 2019-04-12 23:18:35 -0400 (Fri, 12 Apr 2019) | 
| EndedAt: 2019-04-12 23:19:11 -0400 (Fri, 12 Apr 2019) | 
| EllapsedTime: 36.3 seconds | 
| RetCode: 0 | 
| Status: OK | 
| PackageFile: POST_1.6.0.tar.gz | 
| PackageFileSize: 139.7 KiB | 
############################################################################## ############################################################################## ### ### Running command: ### ### chmod a+r POST -R && C:\Users\biocbuild\bbs-3.8-bioc\R\bin\R.exe CMD build --keep-empty-dirs --no-resave-data POST ### ############################################################################## ############################################################################## * checking for file 'POST/DESCRIPTION' ... OK * preparing 'POST': * checking DESCRIPTION meta-information ... OK * installing the package to build vignettes * creating vignettes ... OK * checking for LF line-endings in source and make files and shell scripts * checking for empty or unneeded directories * looking to see if a 'data/datalist' file should be added * building 'POST_1.6.0.tar.gz'