| Back to Multiple platform build/check report for BioC 3.8 |
|
This page was generated on 2019-04-13 11:22:03 -0400 (Sat, 13 Apr 2019).
| Package 1161/1649 | Hostname | OS / Arch | INSTALL | BUILD | CHECK | BUILD BIN | ||||||
| PING 2.26.0 Renan Sauteraud
| malbec1 | Linux (Ubuntu 16.04.6 LTS) / x86_64 | OK | OK | WARNINGS | |||||||
| tokay1 | Windows Server 2012 R2 Standard / x64 | OK | [ OK ] | WARNINGS | OK | |||||||
| merida1 | OS X 10.11.6 El Capitan / x86_64 | OK | OK | WARNINGS | OK |
| Package: PING |
| Version: 2.26.0 |
| Command: chmod a+r PING -R && C:\Users\biocbuild\bbs-3.8-bioc\R\bin\R.exe CMD build --keep-empty-dirs --no-resave-data PING |
| StartedAt: 2019-04-12 21:29:52 -0400 (Fri, 12 Apr 2019) |
| EndedAt: 2019-04-12 21:33:43 -0400 (Fri, 12 Apr 2019) |
| EllapsedTime: 231.7 seconds |
| RetCode: 0 |
| Status: OK |
| PackageFile: PING_2.26.0.tar.gz |
| PackageFileSize: 4.927 MiB |
##############################################################################
##############################################################################
###
### Running command:
###
### chmod a+r PING -R && C:\Users\biocbuild\bbs-3.8-bioc\R\bin\R.exe CMD build --keep-empty-dirs --no-resave-data PING
###
##############################################################################
##############################################################################
* checking for file 'PING/DESCRIPTION' ... OK
* preparing 'PING':
* checking DESCRIPTION meta-information ... OK
* cleaning src
* installing the package to build vignettes
* creating vignettes ... OK
Warning: 'inst/doc' file
'PING-PE.R'
ignored as vignettes have been rebuilt.
Run R CMD build with --no-build-vignettes to prevent rebuilding.
* cleaning src
* checking for LF line-endings in source and make files and shell scripts
* checking for empty or unneeded directories
* building 'PING_2.26.0.tar.gz'
Warning: file 'PING/cleanup' did not have execute permissions: corrected
Warning: file 'PING/configure' did not have execute permissions: corrected