| Back to Multiple platform build/check report for BioC 3.8 |
|
This page was generated on 2019-04-16 11:54:37 -0400 (Tue, 16 Apr 2019).
| Package 1147/1649 | Hostname | OS / Arch | INSTALL | BUILD | CHECK | BUILD BIN | ||||||
| PGSEA 1.56.0 Karl Dykema
| malbec1 | Linux (Ubuntu 16.04.6 LTS) / x86_64 | OK | OK | OK | |||||||
| merida1 | OS X 10.11.6 El Capitan / x86_64 | OK | [ OK ] | OK | OK |
| Package: PGSEA |
| Version: 1.56.0 |
| Command: /Library/Frameworks/R.framework/Versions/Current/Resources/bin/R CMD build --keep-empty-dirs --no-resave-data PGSEA |
| StartedAt: 2019-04-15 19:02:48 -0400 (Mon, 15 Apr 2019) |
| EndedAt: 2019-04-15 19:17:30 -0400 (Mon, 15 Apr 2019) |
| EllapsedTime: 881.7 seconds |
| RetCode: 0 |
| Status: OK |
| PackageFile: PGSEA_1.56.0.tar.gz |
| PackageFileSize: 1.173 MiB |
##############################################################################
##############################################################################
###
### Running command:
###
### /Library/Frameworks/R.framework/Versions/Current/Resources/bin/R CMD build --keep-empty-dirs --no-resave-data PGSEA
###
##############################################################################
##############################################################################
* checking for file ‘PGSEA/DESCRIPTION’ ... OK
* preparing ‘PGSEA’:
* checking DESCRIPTION meta-information ... OK
* installing the package to build vignettes
* creating vignettes ... OK
Warning: ‘inst/doc’ file
‘PGSEA2.R’
ignored as vignettes have been rebuilt.
Run R CMD build with --no-build-vignettes to prevent rebuilding.
* checking for LF line-endings in source and make files and shell scripts
* checking for empty or unneeded directories
* looking to see if a ‘data/datalist’ file should be added
* building ‘PGSEA_1.56.0.tar.gz’