| Back to Multiple platform build/check report for BioC 3.8 | 
 | 
This page was generated on 2019-04-16 11:54:46 -0400 (Tue, 16 Apr 2019).
| Package 1137/1649 | Hostname | OS / Arch | INSTALL | BUILD | CHECK | BUILD BIN | ||||||
| PCpheno 1.44.0 Nolwenn Le Meur 
 | malbec1 | Linux (Ubuntu 16.04.6 LTS) / x86_64 | OK | OK | OK |  | ||||||
| merida1 | OS X 10.11.6 El Capitan / x86_64 | OK | OK | OK | [ OK ] |  | 
| Package: PCpheno | 
| Version: 1.44.0 | 
| Command: rm -rf PCpheno.buildbin-libdir && mkdir PCpheno.buildbin-libdir && /Users/biocbuild/BBS/utils/build-universal.sh PCpheno_1.44.0.tar.gz /Library/Frameworks/R.framework/Versions/Current/Resources/bin/R PCpheno.buildbin-libdir | 
| StartedAt: 2019-04-16 04:31:01 -0400 (Tue, 16 Apr 2019) | 
| EndedAt: 2019-04-16 04:31:44 -0400 (Tue, 16 Apr 2019) | 
| EllapsedTime: 42.7 seconds | 
| RetCode: 0 | 
| Status: OK | 
| PackageFile: PCpheno_1.44.0.tgz | 
| PackageFileSize: 1.131 MiB | 
############################################################################## ############################################################################## ### ### Running command: ### ### rm -rf PCpheno.buildbin-libdir && mkdir PCpheno.buildbin-libdir && /Users/biocbuild/BBS/utils/build-universal.sh PCpheno_1.44.0.tar.gz /Library/Frameworks/R.framework/Versions/Current/Resources/bin/R PCpheno.buildbin-libdir ### ############################################################################## ############################################################################## >>>>>>> >>>>>>> INSTALLATION WITH 'R CMD INSTALL --preclean --no-multiarch --library=PCpheno.buildbin-libdir PCpheno_1.44.0.tar.gz' >>>>>>> * installing *source* package ‘PCpheno’ ... ** R ** data ** inst ** byte-compile and prepare package for lazy loading No methods found in package ‘Biobase’ for request: ‘listlen’ when loading ‘RpsiXML’ No methods found in package ‘annotate’ for requests: ‘pubmed’, ‘buildPubMedAbst’ when loading ‘RpsiXML’ No methods found in package ‘BiocGenerics’ for request: ‘plot’ when loading ‘SLGI’ ** help *** installing help indices ** building package indices ** installing vignettes ** testing if installed package can be loaded No methods found in package ‘Biobase’ for request: ‘listlen’ when loading ‘RpsiXML’ No methods found in package ‘annotate’ for requests: ‘pubmed’, ‘buildPubMedAbst’ when loading ‘RpsiXML’ No methods found in package ‘BiocGenerics’ for request: ‘plot’ when loading ‘SLGI’ * DONE (PCpheno)