| Back to Multiple platform build/check report for BioC 3.8 |
|
This page was generated on 2019-04-16 11:59:24 -0400 (Tue, 16 Apr 2019).
| Package 1135/1649 | Hostname | OS / Arch | INSTALL | BUILD | CHECK | BUILD BIN | ||||||
| PCAN 1.10.0 Matthew Page
| malbec1 | Linux (Ubuntu 16.04.6 LTS) / x86_64 | OK | OK | OK | |||||||
| merida1 | OS X 10.11.6 El Capitan / x86_64 | OK | OK | OK | [ OK ] |
| Package: PCAN |
| Version: 1.10.0 |
| Command: rm -rf PCAN.buildbin-libdir && mkdir PCAN.buildbin-libdir && /Users/biocbuild/BBS/utils/build-universal.sh PCAN_1.10.0.tar.gz /Library/Frameworks/R.framework/Versions/Current/Resources/bin/R PCAN.buildbin-libdir |
| StartedAt: 2019-04-16 04:30:56 -0400 (Tue, 16 Apr 2019) |
| EndedAt: 2019-04-16 04:31:38 -0400 (Tue, 16 Apr 2019) |
| EllapsedTime: 42.5 seconds |
| RetCode: 0 |
| Status: OK |
| PackageFile: PCAN_1.10.0.tgz |
| PackageFileSize: 2.708 MiB |
############################################################################## ############################################################################## ### ### Running command: ### ### rm -rf PCAN.buildbin-libdir && mkdir PCAN.buildbin-libdir && /Users/biocbuild/BBS/utils/build-universal.sh PCAN_1.10.0.tar.gz /Library/Frameworks/R.framework/Versions/Current/Resources/bin/R PCAN.buildbin-libdir ### ############################################################################## ############################################################################## >>>>>>> >>>>>>> INSTALLATION WITH 'R CMD INSTALL --preclean --no-multiarch --library=PCAN.buildbin-libdir PCAN_1.10.0.tar.gz' >>>>>>> * installing *source* package ‘PCAN’ ... ** R ** data ** inst ** byte-compile and prepare package for lazy loading ** help *** installing help indices ** building package indices ** installing vignettes ** testing if installed package can be loaded * DONE (PCAN)