| Back to Multiple platform build/check report for BioC 3.8 |
|
This page was generated on 2019-04-16 11:58:03 -0400 (Tue, 16 Apr 2019).
| Package 1109/1649 | Hostname | OS / Arch | INSTALL | BUILD | CHECK | BUILD BIN | ||||||
| PAA 1.16.0 Michael Turewicz
| malbec1 | Linux (Ubuntu 16.04.6 LTS) / x86_64 | OK | OK | OK | |||||||
| merida1 | OS X 10.11.6 El Capitan / x86_64 | OK | [ OK ] | OK | OK |
| Package: PAA |
| Version: 1.16.0 |
| Command: /Library/Frameworks/R.framework/Versions/Current/Resources/bin/R CMD build --keep-empty-dirs --no-resave-data PAA |
| StartedAt: 2019-04-15 20:11:21 -0400 (Mon, 15 Apr 2019) |
| EndedAt: 2019-04-15 20:15:04 -0400 (Mon, 15 Apr 2019) |
| EllapsedTime: 222.2 seconds |
| RetCode: 0 |
| Status: OK |
| PackageFile: PAA_1.16.0.tar.gz |
| PackageFileSize: 3.77 MiB |
##############################################################################
##############################################################################
###
### Running command:
###
### /Library/Frameworks/R.framework/Versions/Current/Resources/bin/R CMD build --keep-empty-dirs --no-resave-data PAA
###
##############################################################################
##############################################################################
* checking for file ‘PAA/DESCRIPTION’ ... OK
* preparing ‘PAA’:
* checking DESCRIPTION meta-information ... OK
* cleaning src
* installing the package to build vignettes
* creating vignettes ... OK
Warning: ‘inst/doc’ file
‘PAA_vignette.pdf’
ignored as vignettes have been rebuilt.
Run R CMD build with --no-build-vignettes to prevent rebuilding.
* cleaning src
* checking for LF line-endings in source and make files and shell scripts
* checking for empty or unneeded directories
* building ‘PAA_1.16.0.tar.gz’