| Back to Multiple platform build/check report for BioC 3.8 |
|
This page was generated on 2019-04-13 11:19:56 -0400 (Sat, 13 Apr 2019).
| Package 1100/1649 | Hostname | OS / Arch | INSTALL | BUILD | CHECK | BUILD BIN | ||||||
| OrderedList 1.54.0 Claudio Lottaz
| malbec1 | Linux (Ubuntu 16.04.6 LTS) / x86_64 | OK | OK | OK | |||||||
| tokay1 | Windows Server 2012 R2 Standard / x64 | OK | OK | OK | [ OK ] | |||||||
| merida1 | OS X 10.11.6 El Capitan / x86_64 | OK | OK | OK | OK |
| Package: OrderedList |
| Version: 1.54.0 |
| Command: rm -rf OrderedList.buildbin-libdir && mkdir OrderedList.buildbin-libdir && C:\Users\biocbuild\bbs-3.8-bioc\R\bin\R.exe CMD INSTALL --merge-multiarch --build --library=OrderedList.buildbin-libdir OrderedList_1.54.0.tar.gz |
| StartedAt: 2019-04-13 07:44:10 -0400 (Sat, 13 Apr 2019) |
| EndedAt: 2019-04-13 07:44:21 -0400 (Sat, 13 Apr 2019) |
| EllapsedTime: 11.8 seconds |
| RetCode: 0 |
| Status: OK |
| PackageFile: OrderedList_1.54.0.zip |
| PackageFileSize: 929.9 KiB |
##############################################################################
##############################################################################
###
### Running command:
###
### rm -rf OrderedList.buildbin-libdir && mkdir OrderedList.buildbin-libdir && C:\Users\biocbuild\bbs-3.8-bioc\R\bin\R.exe CMD INSTALL --merge-multiarch --build --library=OrderedList.buildbin-libdir OrderedList_1.54.0.tar.gz
###
##############################################################################
##############################################################################
install for i386
* installing *source* package 'OrderedList' ...
** R
** data
** inst
** byte-compile and prepare package for lazy loading
** help
*** installing help indices
converting help for package 'OrderedList'
finding HTML links ... done
OL.data html
OL.result html
OrderedList html
check.test.args html
compareLists html
getOverlap html
overlap html
plot.OrderedList html
prepareData html
preparePermutations html
print.OrderedList html
scoreOrderComparison html
scoreRankings html
shuffledRandomScores html
** building package indices
** installing vignettes
** testing if installed package can be loaded
In R CMD INSTALL
install for x64
* installing *source* package 'OrderedList' ...
** testing if installed package can be loaded
* MD5 sums
packaged installation of 'OrderedList' as OrderedList_1.54.0.zip
* DONE (OrderedList)
In R CMD INSTALL
In R CMD INSTALL