| Back to Multiple platform build/check report for BioC 3.8 | 
 | 
This page was generated on 2019-04-16 12:00:53 -0400 (Tue, 16 Apr 2019).
| Package 1087/1649 | Hostname | OS / Arch | INSTALL | BUILD | CHECK | BUILD BIN | ||||||
| Onassis 1.4.5 Eugenia Galeota 
 | malbec1 | Linux (Ubuntu 16.04.6 LTS) / x86_64 | OK | OK | OK |  | ||||||
| merida1 | OS X 10.11.6 El Capitan / x86_64 | OK | OK | OK | [ OK ] |  | 
| Package: Onassis | 
| Version: 1.4.5 | 
| Command: rm -rf Onassis.buildbin-libdir && mkdir Onassis.buildbin-libdir && /Users/biocbuild/BBS/utils/build-universal.sh Onassis_1.4.5.tar.gz /Library/Frameworks/R.framework/Versions/Current/Resources/bin/R Onassis.buildbin-libdir | 
| StartedAt: 2019-04-16 04:28:38 -0400 (Tue, 16 Apr 2019) | 
| EndedAt: 2019-04-16 04:29:24 -0400 (Tue, 16 Apr 2019) | 
| EllapsedTime: 46.2 seconds | 
| RetCode: 0 | 
| Status: OK | 
| PackageFile: Onassis_1.4.5.tgz | 
| PackageFileSize: 2.696 MiB | 
############################################################################## ############################################################################## ### ### Running command: ### ### rm -rf Onassis.buildbin-libdir && mkdir Onassis.buildbin-libdir && /Users/biocbuild/BBS/utils/build-universal.sh Onassis_1.4.5.tar.gz /Library/Frameworks/R.framework/Versions/Current/Resources/bin/R Onassis.buildbin-libdir ### ############################################################################## ############################################################################## >>>>>>> >>>>>>> INSTALLATION WITH 'R CMD INSTALL --preclean --no-multiarch --library=Onassis.buildbin-libdir Onassis_1.4.5.tar.gz' >>>>>>> * installing *source* package ‘Onassis’ ... ** R ** inst ** byte-compile and prepare package for lazy loading ** help *** installing help indices ** building package indices ** installing vignettes ** testing if installed package can be loaded * DONE (Onassis)