| Back to Multiple platform build/check report for BioC 3.8 | 
  | 
This page was generated on 2019-04-13 11:29:30 -0400 (Sat, 13 Apr 2019).
| Package 1108/1649 | Hostname | OS / Arch | INSTALL | BUILD | CHECK | BUILD BIN | ||||||
| OUTRIDER 1.0.4 Christian Mertes 
  | malbec1 | Linux (Ubuntu 16.04.6 LTS) / x86_64 | OK | OK | OK | |||||||
| tokay1 | Windows Server 2012 R2 Standard / x64 | OK | [ OK ] | OK | OK | |||||||
| merida1 | OS X 10.11.6 El Capitan / x86_64 | OK | OK | OK | OK | 
| Package: OUTRIDER | 
| Version: 1.0.4 | 
| Command: chmod a+r OUTRIDER -R && C:\Users\biocbuild\bbs-3.8-bioc\R\bin\R.exe CMD build --keep-empty-dirs --no-resave-data OUTRIDER | 
| StartedAt: 2019-04-12 23:55:29 -0400 (Fri, 12 Apr 2019) | 
| EndedAt: 2019-04-13 00:05:51 -0400 (Sat, 13 Apr 2019) | 
| EllapsedTime: 622.3 seconds | 
| RetCode: 0 | 
| Status: OK | 
| PackageFile: OUTRIDER_1.0.4.tar.gz | 
| PackageFileSize: 1.601 MiB | 
############################################################################## ############################################################################## ### ### Running command: ### ### chmod a+r OUTRIDER -R && C:\Users\biocbuild\bbs-3.8-bioc\R\bin\R.exe CMD build --keep-empty-dirs --no-resave-data OUTRIDER ### ############################################################################## ############################################################################## * checking for file 'OUTRIDER/DESCRIPTION' ... OK * preparing 'OUTRIDER': * checking DESCRIPTION meta-information ... OK * cleaning src * installing the package to build vignettes * creating vignettes ... OK * cleaning src * checking for LF line-endings in source and make files and shell scripts * checking for empty or unneeded directories * building 'OUTRIDER_1.0.4.tar.gz'