| Back to Multiple platform build/check report for BioC 3.8 |
|
This page was generated on 2019-04-16 11:58:51 -0400 (Tue, 16 Apr 2019).
| Package 1074/1649 | Hostname | OS / Arch | INSTALL | BUILD | CHECK | BUILD BIN | ||||||
| OGSA 1.12.0 Michael F. Ochs
| malbec1 | Linux (Ubuntu 16.04.6 LTS) / x86_64 | OK | OK | OK | |||||||
| merida1 | OS X 10.11.6 El Capitan / x86_64 | OK | OK | OK | [ OK ] |
| Package: OGSA |
| Version: 1.12.0 |
| Command: rm -rf OGSA.buildbin-libdir && mkdir OGSA.buildbin-libdir && /Users/biocbuild/BBS/utils/build-universal.sh OGSA_1.12.0.tar.gz /Library/Frameworks/R.framework/Versions/Current/Resources/bin/R OGSA.buildbin-libdir |
| StartedAt: 2019-04-16 04:28:02 -0400 (Tue, 16 Apr 2019) |
| EndedAt: 2019-04-16 04:28:40 -0400 (Tue, 16 Apr 2019) |
| EllapsedTime: 38.2 seconds |
| RetCode: 0 |
| Status: OK |
| PackageFile: OGSA_1.12.0.tgz |
| PackageFileSize: 3.305 MiB |
############################################################################## ############################################################################## ### ### Running command: ### ### rm -rf OGSA.buildbin-libdir && mkdir OGSA.buildbin-libdir && /Users/biocbuild/BBS/utils/build-universal.sh OGSA_1.12.0.tar.gz /Library/Frameworks/R.framework/Versions/Current/Resources/bin/R OGSA.buildbin-libdir ### ############################################################################## ############################################################################## >>>>>>> >>>>>>> INSTALLATION WITH 'R CMD INSTALL --preclean --no-multiarch --library=OGSA.buildbin-libdir OGSA_1.12.0.tar.gz' >>>>>>> * installing *source* package ‘OGSA’ ... ** R ** data *** moving datasets to lazyload DB ** inst ** byte-compile and prepare package for lazy loading ** help *** installing help indices ** building package indices ** installing vignettes ** testing if installed package can be loaded * DONE (OGSA)