| Back to Multiple platform build/check report for BioC 3.8 | 
 | 
This page was generated on 2019-04-16 11:51:14 -0400 (Tue, 16 Apr 2019).
| Package 1038/1649 | Hostname | OS / Arch | INSTALL | BUILD | CHECK | BUILD BIN | ||||||
| NanoStringQCPro 1.14.0 Robert Ziman 
 | malbec1 | Linux (Ubuntu 16.04.6 LTS) / x86_64 | OK | OK | [ OK ] |  | ||||||
| merida1 | OS X 10.11.6 El Capitan / x86_64 | OK | OK | OK | OK |  | 
| Package: NanoStringQCPro | 
| Version: 1.14.0 | 
| Command: /home/biocbuild/bbs-3.8-bioc/R/bin/R CMD check --install=check:NanoStringQCPro.install-out.txt --library=/home/biocbuild/bbs-3.8-bioc/R/library --no-vignettes --timings NanoStringQCPro_1.14.0.tar.gz | 
| StartedAt: 2019-04-16 01:43:11 -0400 (Tue, 16 Apr 2019) | 
| EndedAt: 2019-04-16 01:45:12 -0400 (Tue, 16 Apr 2019) | 
| EllapsedTime: 120.9 seconds | 
| RetCode: 0 | 
| Status: OK | 
| CheckDir: NanoStringQCPro.Rcheck | 
| Warnings: 0 | 
##############################################################################
##############################################################################
###
### Running command:
###
###   /home/biocbuild/bbs-3.8-bioc/R/bin/R CMD check --install=check:NanoStringQCPro.install-out.txt --library=/home/biocbuild/bbs-3.8-bioc/R/library --no-vignettes --timings NanoStringQCPro_1.14.0.tar.gz
###
##############################################################################
##############################################################################
* using log directory ‘/home/biocbuild/bbs-3.8-bioc/meat/NanoStringQCPro.Rcheck’
* using R version 3.5.3 (2019-03-11)
* using platform: x86_64-pc-linux-gnu (64-bit)
* using session charset: UTF-8
* using option ‘--no-vignettes’
* checking for file ‘NanoStringQCPro/DESCRIPTION’ ... OK
* this is package ‘NanoStringQCPro’ version ‘1.14.0’
* checking package namespace information ... OK
* checking package dependencies ... OK
* checking if this is a source package ... OK
* checking if there is a namespace ... OK
* checking for hidden files and directories ... OK
* checking for portable file names ... OK
* checking for sufficient/correct file permissions ... OK
* checking whether package ‘NanoStringQCPro’ can be installed ... OK
* checking installed package size ... OK
* checking package directory ... OK
* checking DESCRIPTION meta-information ... NOTE
Package listed in more than one of Depends, Imports, Suggests, Enhances:
  ‘knitr’
A package should be listed in only one of these fields.
* checking top-level files ... OK
* checking for left-over files ... OK
* checking index information ... OK
* checking package subdirectories ... OK
* checking R files for non-ASCII characters ... OK
* checking R files for syntax errors ... OK
* checking whether the package can be loaded ... OK
* checking whether the package can be loaded with stated dependencies ... OK
* checking whether the package can be unloaded cleanly ... OK
* checking whether the namespace can be loaded with stated dependencies ... OK
* checking whether the namespace can be unloaded cleanly ... OK
* checking dependencies in R code ... OK
* checking S3 generic/method consistency ... OK
* checking replacement functions ... OK
* checking foreign function calls ... OK
* checking R code for possible problems ... NOTE
centeredSampleClustering: no visible global function definition for
  ‘png’
centeredSampleClustering: no visible global function definition for
  ‘dev.off’
countsInBlankSamples_verticalPlot: no visible global function
  definition for ‘png’
countsInBlankSamples_verticalPlot: no visible global function
  definition for ‘dev.off’
geneClustering: no visible global function definition for ‘png’
geneClustering: no visible global function definition for ‘dev.off’
negCtrlsByLane_verticalPlot: no visible global function definition for
  ‘png’
negCtrlsByLane_verticalPlot: no visible global function definition for
  ‘dev.off’
previewPNG: no visible global function definition for ‘png’
previewPNG: no visible global function definition for ‘dev.off’
sampleClustering,RccSet: no visible global function definition for
  ‘png’
sampleClustering,RccSet: no visible global function definition for
  ‘dev.off’
Undefined global functions or variables:
  dev.off png
Consider adding
  importFrom("grDevices", "dev.off", "png")
to your NAMESPACE file.
* checking Rd files ... OK
* checking Rd metadata ... OK
* checking Rd cross-references ... OK
* checking for missing documentation entries ... OK
* checking for code/documentation mismatches ... OK
* checking Rd \usage sections ... OK
* checking Rd contents ... OK
* checking for unstated dependencies in examples ... OK
* checking contents of ‘data’ directory ... OK
* checking data for non-ASCII characters ... OK
* checking data for ASCII and uncompressed saves ... OK
* checking installed files from ‘inst/doc’ ... OK
* checking examples ... OK
Examples with CPU or elapsed time > 5s
               user system elapsed
makeQCReport 15.104   0.44   15.66
* checking PDF version of manual ... OK
* DONE
Status: 2 NOTEs
See
  ‘/home/biocbuild/bbs-3.8-bioc/meat/NanoStringQCPro.Rcheck/00check.log’
for details.
NanoStringQCPro.Rcheck/00install.out
############################################################################## ############################################################################## ### ### Running command: ### ### /home/biocbuild/bbs-3.8-bioc/R/bin/R CMD INSTALL NanoStringQCPro ### ############################################################################## ############################################################################## * installing to library ‘/home/biocbuild/bbs-3.8-bioc/R/library’ * installing *source* package ‘NanoStringQCPro’ ... ** R ** data *** moving datasets to lazyload DB ** inst ** byte-compile and prepare package for lazy loading ** help *** installing help indices ** building package indices ** testing if installed package can be loaded * DONE (NanoStringQCPro)
NanoStringQCPro.Rcheck/NanoStringQCPro-Ex.timings
| name | user | system | elapsed | |
| RccSet-class | 0.396 | 0.000 | 0.395 | |
| addCodesetAnnotation | 0.296 | 0.000 | 0.326 | |
| buildCodesetAnnotation | 0.012 | 0.000 | 0.013 | |
| checkRccSet | 0.072 | 0.000 | 0.072 | |
| contentNorm | 0.16 | 0.00 | 0.16 | |
| copyRccSet | 0.02 | 0.00 | 0.02 | |
| getBackground | 0.120 | 0.000 | 0.119 | |
| getBlankLabel | 0.004 | 0.000 | 0.002 | |
| makeQCReport | 15.104 | 0.440 | 15.660 | |
| newRccSet | 0.392 | 0.040 | 0.433 | |
| posCtrlNorm | 0.032 | 0.000 | 0.030 | |
| preprocRccSet | 0.208 | 0.004 | 0.210 | |
| presAbsCall | 0.060 | 0.004 | 0.063 | |
| readCdrDesignData | 0.004 | 0.000 | 0.003 | |
| readRcc | 0.004 | 0.000 | 0.007 | |
| readRlf | 0.004 | 0.000 | 0.006 | |
| subtractBackground | 0.080 | 0.000 | 0.081 | |