| Back to Multiple platform build/check report for BioC 3.8 | 
 | 
This page was generated on 2019-04-16 11:58:53 -0400 (Tue, 16 Apr 2019).
| Package 1037/1649 | Hostname | OS / Arch | INSTALL | BUILD | CHECK | BUILD BIN | ||||||
| NanoStringDiff 1.12.0 tingting zhai 
 | malbec1 | Linux (Ubuntu 16.04.6 LTS) / x86_64 | OK | OK | WARNINGS |  | ||||||
| merida1 | OS X 10.11.6 El Capitan / x86_64 | OK | [ OK ] | WARNINGS | OK |  | 
| Package: NanoStringDiff | 
| Version: 1.12.0 | 
| Command: /Library/Frameworks/R.framework/Versions/Current/Resources/bin/R CMD build --keep-empty-dirs --no-resave-data NanoStringDiff | 
| StartedAt: 2019-04-15 20:29:08 -0400 (Mon, 15 Apr 2019) | 
| EndedAt: 2019-04-15 20:29:41 -0400 (Mon, 15 Apr 2019) | 
| EllapsedTime: 33.1 seconds | 
| RetCode: 0 | 
| Status: OK | 
| PackageFile: NanoStringDiff_1.12.0.tar.gz | 
| PackageFileSize: 311.3 KiB | 
##############################################################################
##############################################################################
###
### Running command:
###
###   /Library/Frameworks/R.framework/Versions/Current/Resources/bin/R CMD build --keep-empty-dirs --no-resave-data NanoStringDiff
###
##############################################################################
##############################################################################
* checking for file ‘NanoStringDiff/DESCRIPTION’ ... OK
* preparing ‘NanoStringDiff’:
* checking DESCRIPTION meta-information ... OK
* cleaning src
* installing the package to build vignettes
* creating vignettes ... OK
Warning: ‘inst/doc’ files
    ‘NanoStringDiff.Rnw’, ‘NanoStringDiff.pdf’, ‘NanoStringDiff.R’
  ignored as vignettes have been rebuilt.
  Run R CMD build with --no-build-vignettes to prevent rebuilding.
* cleaning src
* checking for LF line-endings in source and make files and shell scripts
* checking for empty or unneeded directories
* looking to see if a ‘data/datalist’ file should be added
* building ‘NanoStringDiff_1.12.0.tar.gz’