| Back to Multiple platform build/check report for BioC 3.8 |
|
This page was generated on 2019-04-16 11:57:56 -0400 (Tue, 16 Apr 2019).
| Package 1056/1649 | Hostname | OS / Arch | INSTALL | BUILD | CHECK | BUILD BIN | ||||||
| NGScopy 1.16.1 Xiaobei Zhao
| malbec1 | Linux (Ubuntu 16.04.6 LTS) / x86_64 | ERROR | ERROR | skipped | |||||||
| merida1 | OS X 10.11.6 El Capitan / x86_64 | ERROR | [ ERROR ] | skipped | skipped |
| Package: NGScopy |
| Version: 1.16.1 |
| Command: /Library/Frameworks/R.framework/Versions/Current/Resources/bin/R CMD build --keep-empty-dirs --no-resave-data NGScopy |
| StartedAt: 2019-04-15 20:08:15 -0400 (Mon, 15 Apr 2019) |
| EndedAt: 2019-04-15 20:08:24 -0400 (Mon, 15 Apr 2019) |
| EllapsedTime: 9.4 seconds |
| RetCode: 1 |
| Status: ERROR |
| PackageFile: None |
| PackageFileSize: NA |
##############################################################################
##############################################################################
###
### Running command:
###
### /Library/Frameworks/R.framework/Versions/Current/Resources/bin/R CMD build --keep-empty-dirs --no-resave-data NGScopy
###
##############################################################################
##############################################################################
* checking for file ‘NGScopy/DESCRIPTION’ ... OK
* preparing ‘NGScopy’:
* checking DESCRIPTION meta-information ... OK
* installing the package to build vignettes
-----------------------------------
ERROR: dependency ‘rbamtools’ is not available for package ‘NGScopy’
* removing ‘/private/tmp/Rtmp4bCKn2/Rinstaf6e571b4c57/NGScopy’
-----------------------------------
ERROR: package installation failed