| Back to Multiple platform build/check report for BioC 3.8 | 
 | 
This page was generated on 2019-04-16 11:49:34 -0400 (Tue, 16 Apr 2019).
| Package 962/1649 | Hostname | OS / Arch | INSTALL | BUILD | CHECK | BUILD BIN | ||||||
| MinimumDistance 1.26.0 Robert B Scharpf 
 | malbec1 | Linux (Ubuntu 16.04.6 LTS) / x86_64 | OK | [ OK ] | WARNINGS |  | ||||||
| merida1 | OS X 10.11.6 El Capitan / x86_64 | OK | OK | WARNINGS | OK |  | 
| Package: MinimumDistance | 
| Version: 1.26.0 | 
| Command: /home/biocbuild/bbs-3.8-bioc/R/bin/R CMD build --keep-empty-dirs --no-resave-data MinimumDistance | 
| StartedAt: 2019-04-15 19:18:17 -0400 (Mon, 15 Apr 2019) | 
| EndedAt: 2019-04-15 19:19:24 -0400 (Mon, 15 Apr 2019) | 
| EllapsedTime: 66.5 seconds | 
| RetCode: 0 | 
| Status: OK | 
| PackageFile: MinimumDistance_1.26.0.tar.gz | 
| PackageFileSize: 1.312 MiB | 
############################################################################## ############################################################################## ### ### Running command: ### ### /home/biocbuild/bbs-3.8-bioc/R/bin/R CMD build --keep-empty-dirs --no-resave-data MinimumDistance ### ############################################################################## ############################################################################## * checking for file ‘MinimumDistance/DESCRIPTION’ ... OK * preparing ‘MinimumDistance’: * checking DESCRIPTION meta-information ... OK * installing the package to build vignettes * creating vignettes ... OK * checking for LF line-endings in source and make files and shell scripts * checking for empty or unneeded directories * looking to see if a ‘data/datalist’ file should be added * building ‘MinimumDistance_1.26.0.tar.gz’