| Back to Multiple platform build/check report for BioC 3.8 | 
  | 
This page was generated on 2019-04-16 11:57:41 -0400 (Tue, 16 Apr 2019).
| Package 936/1649 | Hostname | OS / Arch | INSTALL | BUILD | CHECK | BUILD BIN | ||||||
| MethylAid 1.16.0 M. van Iterson 
  | malbec1 | Linux (Ubuntu 16.04.6 LTS) / x86_64 | OK | OK | OK | |||||||
| merida1 | OS X 10.11.6 El Capitan / x86_64 | OK | OK | OK | [ OK ] | 
| Package: MethylAid | 
| Version: 1.16.0 | 
| Command: rm -rf MethylAid.buildbin-libdir && mkdir MethylAid.buildbin-libdir && /Users/biocbuild/BBS/utils/build-universal.sh MethylAid_1.16.0.tar.gz /Library/Frameworks/R.framework/Versions/Current/Resources/bin/R MethylAid.buildbin-libdir | 
| StartedAt: 2019-04-16 04:21:54 -0400 (Tue, 16 Apr 2019) | 
| EndedAt: 2019-04-16 04:22:38 -0400 (Tue, 16 Apr 2019) | 
| EllapsedTime: 43.2 seconds | 
| RetCode: 0 | 
| Status: OK | 
| PackageFile: MethylAid_1.16.0.tgz | 
| PackageFileSize: 3.152 MiB | 
############################################################################## ############################################################################## ### ### Running command: ### ### rm -rf MethylAid.buildbin-libdir && mkdir MethylAid.buildbin-libdir && /Users/biocbuild/BBS/utils/build-universal.sh MethylAid_1.16.0.tar.gz /Library/Frameworks/R.framework/Versions/Current/Resources/bin/R MethylAid.buildbin-libdir ### ############################################################################## ############################################################################## >>>>>>> >>>>>>> INSTALLATION WITH 'R CMD INSTALL --preclean --no-multiarch --library=MethylAid.buildbin-libdir MethylAid_1.16.0.tar.gz' >>>>>>> * installing *source* package ‘MethylAid’ ... ** R ** data ** inst ** byte-compile and prepare package for lazy loading ** help *** installing help indices ** building package indices ** installing vignettes ** testing if installed package can be loaded * DONE (MethylAid)