| Back to Multiple platform build/check report for BioC 3.8 |
|
This page was generated on 2019-04-16 11:51:16 -0400 (Tue, 16 Apr 2019).
| Package 933/1649 | Hostname | OS / Arch | INSTALL | BUILD | CHECK | BUILD BIN | ||||||
| MethTargetedNGS 1.14.0 Muhammad Ahmer Jamil
| malbec1 | Linux (Ubuntu 16.04.6 LTS) / x86_64 | OK | OK | [ OK ] | |||||||
| merida1 | OS X 10.11.6 El Capitan / x86_64 | OK | OK | OK | OK |
| Package: MethTargetedNGS |
| Version: 1.14.0 |
| Command: /home/biocbuild/bbs-3.8-bioc/R/bin/R CMD check --install=check:MethTargetedNGS.install-out.txt --library=/home/biocbuild/bbs-3.8-bioc/R/library --no-vignettes --timings MethTargetedNGS_1.14.0.tar.gz |
| StartedAt: 2019-04-16 01:18:47 -0400 (Tue, 16 Apr 2019) |
| EndedAt: 2019-04-16 01:20:15 -0400 (Tue, 16 Apr 2019) |
| EllapsedTime: 88.0 seconds |
| RetCode: 0 |
| Status: OK |
| CheckDir: MethTargetedNGS.Rcheck |
| Warnings: 0 |
##############################################################################
##############################################################################
###
### Running command:
###
### /home/biocbuild/bbs-3.8-bioc/R/bin/R CMD check --install=check:MethTargetedNGS.install-out.txt --library=/home/biocbuild/bbs-3.8-bioc/R/library --no-vignettes --timings MethTargetedNGS_1.14.0.tar.gz
###
##############################################################################
##############################################################################
* using log directory ‘/home/biocbuild/bbs-3.8-bioc/meat/MethTargetedNGS.Rcheck’
* using R version 3.5.3 (2019-03-11)
* using platform: x86_64-pc-linux-gnu (64-bit)
* using session charset: UTF-8
* using option ‘--no-vignettes’
* checking for file ‘MethTargetedNGS/DESCRIPTION’ ... OK
* checking extension type ... Package
* this is package ‘MethTargetedNGS’ version ‘1.14.0’
* checking package namespace information ... OK
* checking package dependencies ... OK
* checking if this is a source package ... OK
* checking if there is a namespace ... OK
* checking for hidden files and directories ... OK
* checking for portable file names ... OK
* checking for sufficient/correct file permissions ... OK
* checking whether package ‘MethTargetedNGS’ can be installed ... OK
* checking installed package size ... OK
* checking package directory ... OK
* checking ‘build’ directory ... OK
* checking DESCRIPTION meta-information ... OK
* checking top-level files ... OK
* checking for left-over files ... OK
* checking index information ... OK
* checking package subdirectories ... OK
* checking R files for non-ASCII characters ... OK
* checking R files for syntax errors ... OK
* checking whether the package can be loaded ... OK
* checking whether the package can be loaded with stated dependencies ... OK
* checking whether the package can be unloaded cleanly ... OK
* checking whether the namespace can be loaded with stated dependencies ... OK
* checking whether the namespace can be unloaded cleanly ... OK
* checking dependencies in R code ... OK
* checking S3 generic/method consistency ... OK
* checking replacement functions ... OK
* checking foreign function calls ... OK
* checking R code for possible problems ... NOTE
compare_samples: no visible global function definition for ‘par’
compare_samples: no visible global function definition for ‘plot’
compare_samples: no visible global function definition for ‘lines’
fishertest_cpg: no visible global function definition for ‘fisher.test’
fishertest_cpg: no visible global function definition for ‘p.adjust’
fishertest_cpg: no visible global function definition for ‘barplot’
fishertest_cpg: no visible global function definition for ‘abline’
methAlign: no visible global function definition for ‘subject’
methAlign: no visible global function definition for ‘pattern’
nhmmer: no visible global function definition for ‘read.table’
nhmmer: no visible global function definition for ‘setNames’
Undefined global functions or variables:
abline barplot fisher.test lines p.adjust par pattern plot read.table
setNames subject
Consider adding
importFrom("graphics", "abline", "barplot", "lines", "par", "plot")
importFrom("stats", "fisher.test", "p.adjust", "setNames")
importFrom("utils", "read.table")
to your NAMESPACE file.
* checking Rd files ... OK
* checking Rd metadata ... OK
* checking Rd cross-references ... OK
* checking for missing documentation entries ... OK
* checking for code/documentation mismatches ... OK
* checking Rd \usage sections ... OK
* checking Rd contents ... OK
* checking for unstated dependencies in examples ... OK
* checking files in ‘vignettes’ ... OK
* checking examples ... OK
Examples with CPU or elapsed time > 5s
user system elapsed
compare_samples 5.156 0.028 5.189
* checking for unstated dependencies in vignettes ... OK
* checking package vignettes in ‘inst/doc’ ... OK
* checking running R code from vignettes ... SKIPPED
* checking re-building of vignette outputs ... SKIPPED
* checking PDF version of manual ... OK
* DONE
Status: 1 NOTE
See
‘/home/biocbuild/bbs-3.8-bioc/meat/MethTargetedNGS.Rcheck/00check.log’
for details.
MethTargetedNGS.Rcheck/00install.out
############################################################################## ############################################################################## ### ### Running command: ### ### /home/biocbuild/bbs-3.8-bioc/R/bin/R CMD INSTALL MethTargetedNGS ### ############################################################################## ############################################################################## * installing to library ‘/home/biocbuild/bbs-3.8-bioc/R/library’ * installing *source* package ‘MethTargetedNGS’ ... ** R ** inst ** byte-compile and prepare package for lazy loading ** help *** installing help indices ** building package indices ** installing vignettes ** testing if installed package can be loaded * DONE (MethTargetedNGS)
MethTargetedNGS.Rcheck/MethTargetedNGS-Ex.timings
| name | user | system | elapsed | |
| bconv | 0.004 | 0.000 | 0.022 | |
| compare_samples | 5.156 | 0.028 | 5.189 | |
| fishertest_cpg | 4.060 | 0.000 | 4.062 | |
| hmmbuild | 0.000 | 0.000 | 0.001 | |
| methAlign | 2.828 | 0.000 | 2.828 | |
| methAvg | 2.496 | 0.000 | 2.501 | |
| methEntropy | 1.912 | 0.000 | 1.915 | |
| methHeatmap | 1.916 | 0.004 | 1.922 | |
| nhmmer | 0.000 | 0.000 | 0.001 | |
| odd_ratio | 4.532 | 0.000 | 4.536 | |