| Back to Multiple platform build/check report for BioC 3.8 |
|
This page was generated on 2019-04-16 11:59:22 -0400 (Tue, 16 Apr 2019).
| Package 932/1649 | Hostname | OS / Arch | INSTALL | BUILD | CHECK | BUILD BIN | ||||||
| MethPed 1.10.1 Helena Carén
| malbec1 | Linux (Ubuntu 16.04.6 LTS) / x86_64 | OK | OK | OK | |||||||
| merida1 | OS X 10.11.6 El Capitan / x86_64 | OK | OK | OK | [ OK ] |
| Package: MethPed |
| Version: 1.10.1 |
| Command: rm -rf MethPed.buildbin-libdir && mkdir MethPed.buildbin-libdir && /Users/biocbuild/BBS/utils/build-universal.sh MethPed_1.10.1.tar.gz /Library/Frameworks/R.framework/Versions/Current/Resources/bin/R MethPed.buildbin-libdir |
| StartedAt: 2019-04-16 04:21:44 -0400 (Tue, 16 Apr 2019) |
| EndedAt: 2019-04-16 04:22:27 -0400 (Tue, 16 Apr 2019) |
| EllapsedTime: 43.3 seconds |
| RetCode: 0 |
| Status: OK |
| PackageFile: MethPed_1.10.1.tgz |
| PackageFileSize: 9.35 MiB |
############################################################################## ############################################################################## ### ### Running command: ### ### rm -rf MethPed.buildbin-libdir && mkdir MethPed.buildbin-libdir && /Users/biocbuild/BBS/utils/build-universal.sh MethPed_1.10.1.tar.gz /Library/Frameworks/R.framework/Versions/Current/Resources/bin/R MethPed.buildbin-libdir ### ############################################################################## ############################################################################## >>>>>>> >>>>>>> INSTALLATION WITH 'R CMD INSTALL --preclean --no-multiarch --library=MethPed.buildbin-libdir MethPed_1.10.1.tar.gz' >>>>>>> * installing *source* package ‘MethPed’ ... ** R ** data ** inst ** byte-compile and prepare package for lazy loading ** help *** installing help indices ** building package indices ** installing vignettes ** testing if installed package can be loaded * DONE (MethPed)