| Back to Multiple platform build/check report for BioC 3.8 |
|
This page was generated on 2019-04-13 11:28:20 -0400 (Sat, 13 Apr 2019).
| Package 1014/1649 | Hostname | OS / Arch | INSTALL | BUILD | CHECK | BUILD BIN | ||||||
| MSstatsQC 2.0.1 Eralp Dogu
| malbec1 | Linux (Ubuntu 16.04.6 LTS) / x86_64 | OK | OK | OK | |||||||
| tokay1 | Windows Server 2012 R2 Standard / x64 | OK | OK | OK | [ OK ] | |||||||
| merida1 | OS X 10.11.6 El Capitan / x86_64 | OK | OK | OK | OK |
| Package: MSstatsQC |
| Version: 2.0.1 |
| Command: rm -rf MSstatsQC.buildbin-libdir && mkdir MSstatsQC.buildbin-libdir && C:\Users\biocbuild\bbs-3.8-bioc\R\bin\R.exe CMD INSTALL --merge-multiarch --build --library=MSstatsQC.buildbin-libdir MSstatsQC_2.0.1.tar.gz |
| StartedAt: 2019-04-13 07:40:57 -0400 (Sat, 13 Apr 2019) |
| EndedAt: 2019-04-13 07:41:26 -0400 (Sat, 13 Apr 2019) |
| EllapsedTime: 29.2 seconds |
| RetCode: 0 |
| Status: OK |
| PackageFile: MSstatsQC_2.0.1.zip |
| PackageFileSize: 1.272 MiB |
##############################################################################
##############################################################################
###
### Running command:
###
### rm -rf MSstatsQC.buildbin-libdir && mkdir MSstatsQC.buildbin-libdir && C:\Users\biocbuild\bbs-3.8-bioc\R\bin\R.exe CMD INSTALL --merge-multiarch --build --library=MSstatsQC.buildbin-libdir MSstatsQC_2.0.1.tar.gz
###
##############################################################################
##############################################################################
install for i386
* installing *source* package 'MSstatsQC' ...
** R
** data
*** moving datasets to lazyload DB
** inst
** byte-compile and prepare package for lazy loading
** help
*** installing help indices
converting help for package 'MSstatsQC'
finding HTML links ... done
CUSUMChart html
ChangePointEstimator html
DataProcess html
DecisionMap html
MSnbaseToMSstatsQC html
MissingDataMap html
QCloudDDA html
QCloudSRM html
QuiCDIA html
RadarPlot html
RemoveMissing html
RiverPlot html
S9Site54 html
XmRChart html
** building package indices
** installing vignettes
** testing if installed package can be loaded
In R CMD INSTALL
install for x64
* installing *source* package 'MSstatsQC' ...
** testing if installed package can be loaded
* MD5 sums
packaged installation of 'MSstatsQC' as MSstatsQC_2.0.1.zip
* DONE (MSstatsQC)
In R CMD INSTALL
In R CMD INSTALL