| Back to Multiple platform build/check report for BioC 3.8 | 
 | 
This page was generated on 2019-04-13 11:21:26 -0400 (Sat, 13 Apr 2019).
| Package 983/1649 | Hostname | OS / Arch | INSTALL | BUILD | CHECK | BUILD BIN | ||||||
| MLP 1.30.0 Tobias Verbeke 
 | malbec1 | Linux (Ubuntu 16.04.6 LTS) / x86_64 | OK | OK | OK |  | ||||||
| tokay1 | Windows Server 2012 R2 Standard / x64 | OK | OK | OK | [ OK ] |  | ||||||
| merida1 | OS X 10.11.6 El Capitan / x86_64 | OK | OK | OK | OK |  | 
| Package: MLP | 
| Version: 1.30.0 | 
| Command: rm -rf MLP.buildbin-libdir && mkdir MLP.buildbin-libdir && C:\Users\biocbuild\bbs-3.8-bioc\R\bin\R.exe CMD INSTALL --merge-multiarch --build --library=MLP.buildbin-libdir MLP_1.30.0.tar.gz | 
| StartedAt: 2019-04-13 07:39:56 -0400 (Sat, 13 Apr 2019) | 
| EndedAt: 2019-04-13 07:40:10 -0400 (Sat, 13 Apr 2019) | 
| EllapsedTime: 13.3 seconds | 
| RetCode: 0 | 
| Status: OK | 
| PackageFile: MLP_1.30.0.zip | 
| PackageFileSize: 4.264 MiB | 
##############################################################################
##############################################################################
###
### Running command:
###
###   rm -rf MLP.buildbin-libdir && mkdir MLP.buildbin-libdir && C:\Users\biocbuild\bbs-3.8-bioc\R\bin\R.exe CMD INSTALL --merge-multiarch --build --library=MLP.buildbin-libdir MLP_1.30.0.tar.gz
###
##############################################################################
##############################################################################
install for i386
* installing *source* package 'MLP' ...
** R
** inst
** byte-compile and prepare package for lazy loading
** help
*** installing help indices
  converting help for package 'MLP'
    finding HTML links ... done
    MLP                                     html  
    addGeneSetDescription                   html  
    getGeneSets                             html  
    mlpBarplot                              html  
    plot.MLP                                html  
    plotGOgraph                             html  
    plotGeneSetSignificance                 html  
** building package indices
** installing vignettes
** testing if installed package can be loaded
In R CMD INSTALL
install for x64
* installing *source* package 'MLP' ...
** testing if installed package can be loaded
* MD5 sums
packaged installation of 'MLP' as MLP_1.30.0.zip
* DONE (MLP)
In R CMD INSTALL
In R CMD INSTALL