| Back to Multiple platform build/check report for BioC 3.8 |
|
This page was generated on 2019-04-13 11:29:20 -0400 (Sat, 13 Apr 2019).
| Package 894/1649 | Hostname | OS / Arch | INSTALL | BUILD | CHECK | BUILD BIN | ||||||
| MBttest 1.10.0 Yuan-De Tan
| malbec1 | Linux (Ubuntu 16.04.6 LTS) / x86_64 | OK | OK | OK | |||||||
| tokay1 | Windows Server 2012 R2 Standard / x64 | OK | OK | OK | [ OK ] | |||||||
| merida1 | OS X 10.11.6 El Capitan / x86_64 | OK | OK | OK | OK |
| Package: MBttest |
| Version: 1.10.0 |
| Command: rm -rf MBttest.buildbin-libdir && mkdir MBttest.buildbin-libdir && C:\Users\biocbuild\bbs-3.8-bioc\R\bin\R.exe CMD INSTALL --merge-multiarch --build --library=MBttest.buildbin-libdir MBttest_1.10.0.tar.gz |
| StartedAt: 2019-04-13 07:37:04 -0400 (Sat, 13 Apr 2019) |
| EndedAt: 2019-04-13 07:37:19 -0400 (Sat, 13 Apr 2019) |
| EllapsedTime: 14.8 seconds |
| RetCode: 0 |
| Status: OK |
| PackageFile: MBttest_1.10.0.zip |
| PackageFileSize: 2.612 MiB |
##############################################################################
##############################################################################
###
### Running command:
###
### rm -rf MBttest.buildbin-libdir && mkdir MBttest.buildbin-libdir && C:\Users\biocbuild\bbs-3.8-bioc\R\bin\R.exe CMD INSTALL --merge-multiarch --build --library=MBttest.buildbin-libdir MBttest_1.10.0.tar.gz
###
##############################################################################
##############################################################################
install for i386
* installing *source* package 'MBttest' ...
** R
** data
** inst
** byte-compile and prepare package for lazy loading
** help
*** installing help indices
converting help for package 'MBttest'
finding HTML links ... done
MBttest-package html
betaparametVP html
betaparametab html
betaparametw html
betattest html
dat html
jkttcell html
maplot html
mbetattest html
mtprocedure html
mtpvadjust html
myheatmap html
oddratio html
pratio html
simulat html
skjt html
smbetattest html
** building package indices
** installing vignettes
** testing if installed package can be loaded
In R CMD INSTALL
install for x64
* installing *source* package 'MBttest' ...
** testing if installed package can be loaded
* MD5 sums
packaged installation of 'MBttest' as MBttest_1.10.0.zip
* DONE (MBttest)
In R CMD INSTALL
In R CMD INSTALL