| Back to Multiple platform build/check report for BioC 3.8 | 
 | 
This page was generated on 2019-04-13 11:24:11 -0400 (Sat, 13 Apr 2019).
| Package 858/1649 | Hostname | OS / Arch | INSTALL | BUILD | CHECK | BUILD BIN | ||||||
| M3D 1.16.0 Tom Mayo 
 | malbec1 | Linux (Ubuntu 16.04.6 LTS) / x86_64 | OK | OK | OK |  | ||||||
| tokay1 | Windows Server 2012 R2 Standard / x64 | OK | OK | OK | [ OK ] |  | ||||||
| merida1 | OS X 10.11.6 El Capitan / x86_64 | OK | OK | OK | OK |  | 
| Package: M3D | 
| Version: 1.16.0 | 
| Command: rm -rf M3D.buildbin-libdir && mkdir M3D.buildbin-libdir && C:\Users\biocbuild\bbs-3.8-bioc\R\bin\R.exe --arch x64 CMD INSTALL --no-multiarch --build --library=M3D.buildbin-libdir M3D_1.16.0.tar.gz | 
| StartedAt: 2019-04-13 07:35:49 -0400 (Sat, 13 Apr 2019) | 
| EndedAt: 2019-04-13 07:36:22 -0400 (Sat, 13 Apr 2019) | 
| EllapsedTime: 32.5 seconds | 
| RetCode: 0 | 
| Status: OK | 
| PackageFile: M3D_1.16.0.zip | 
| PackageFileSize: 945.7 KiB | 
##############################################################################
##############################################################################
###
### Running command:
###
###   rm -rf M3D.buildbin-libdir && mkdir M3D.buildbin-libdir && C:\Users\biocbuild\bbs-3.8-bioc\R\bin\R.exe --arch x64 CMD INSTALL --no-multiarch --build --library=M3D.buildbin-libdir M3D_1.16.0.tar.gz
###
##############################################################################
##############################################################################
* installing *source* package 'M3D' ...
** libs
C:/Rtools/mingw_64/bin/g++  -I"C:/Users/biocbuild/bbs-3.8-bioc/R/include" -DNDEBUG  -I"C:/Users/biocbuild/bbs-3.8-bioc/R/library/Rcpp/include"   -I"C:/extsoft/include"     -O2 -Wall  -mtune=generic -c RcppExports.cpp -o RcppExports.o
C:/Rtools/mingw_64/bin/g++  -I"C:/Users/biocbuild/bbs-3.8-bioc/R/include" -DNDEBUG  -I"C:/Users/biocbuild/bbs-3.8-bioc/R/library/Rcpp/include"   -I"C:/extsoft/include"     -O2 -Wall  -mtune=generic -c cpp_fns.cpp -o cpp_fns.o
C:/Rtools/mingw_64/bin/g++ -shared -s -static-libgcc -o M3D.dll tmp.def RcppExports.o cpp_fns.o -LC:/extsoft/lib/x64 -LC:/extsoft/lib -LC:/Users/biocbuild/bbs-3.8-bioc/R/bin/x64 -lR
installing to C:/Users/biocbuild/bbs-3.8-bioc/meat/M3D.buildbin-libdir/M3D/libs/x64
** R
** data
** inst
** byte-compile and prepare package for lazy loading
** help
*** installing help indices
  converting help for package 'M3D'
    finding HTML links ... done
    CpGsDemo                                html  
    M3D-package                             html  
    M3D_Single                              html  
    M3D_Wrapper                             html  
    M3D_Wrapper_lite                        html  
    MMDlistDemo                             html  
    PDemo                                   html  
    determineGroupComps                     html  
    findComps                               html  
    medianFreq                              html  
    median_freq                             html  
    plotCoverageSampleProfiles              html  
    plotMethProfile                         html  
    plotMethSampleProfiles                  html  
    pvals                                   html  
    pvals_lite                              html  
    readBedFiles                            html  
    readBedRaw                              html  
    rrbsDemo                                html  
    test_colData_structure                  html  
** building package indices
** installing vignettes
** testing if installed package can be loaded
* MD5 sums
packaged installation of 'M3D' as M3D_1.16.0.zip
* DONE (M3D)
In R CMD INSTALL