| Back to Multiple platform build/check report for BioC 3.8 | 
 | 
This page was generated on 2019-04-13 11:27:33 -0400 (Sat, 13 Apr 2019).
| Package 844/1649 | Hostname | OS / Arch | INSTALL | BUILD | CHECK | BUILD BIN | ||||||
| Logolas 1.6.0 Kushal Dey 
 | malbec1 | Linux (Ubuntu 16.04.6 LTS) / x86_64 | OK | OK | OK |  | ||||||
| tokay1 | Windows Server 2012 R2 Standard / x64 | [ OK ] | OK | OK | OK |  | ||||||
| merida1 | OS X 10.11.6 El Capitan / x86_64 | OK | OK | OK | OK |  | 
| Package: Logolas | 
| Version: 1.6.0 | 
| Command: C:\cygwin\bin\curl.exe -O https://malbec1.bioconductor.org/BBS/3.8/bioc/src/contrib/Logolas_1.6.0.tar.gz && rm -rf Logolas.buildbin-libdir && mkdir Logolas.buildbin-libdir && C:\Users\biocbuild\bbs-3.8-bioc\R\bin\R.exe CMD INSTALL --merge-multiarch --build --library=Logolas.buildbin-libdir Logolas_1.6.0.tar.gz && C:\Users\biocbuild\bbs-3.8-bioc\R\bin\R.exe CMD INSTALL Logolas_1.6.0.zip && rm Logolas_1.6.0.tar.gz Logolas_1.6.0.zip | 
| StartedAt: 2019-04-12 19:13:13 -0400 (Fri, 12 Apr 2019) | 
| EndedAt: 2019-04-12 19:13:56 -0400 (Fri, 12 Apr 2019) | 
| EllapsedTime: 42.8 seconds | 
| RetCode: 0 | 
| Status: OK | 
##############################################################################
##############################################################################
###
### Running command:
###
###   C:\cygwin\bin\curl.exe -O https://malbec1.bioconductor.org/BBS/3.8/bioc/src/contrib/Logolas_1.6.0.tar.gz && rm -rf Logolas.buildbin-libdir && mkdir Logolas.buildbin-libdir && C:\Users\biocbuild\bbs-3.8-bioc\R\bin\R.exe CMD INSTALL --merge-multiarch --build --library=Logolas.buildbin-libdir Logolas_1.6.0.tar.gz && C:\Users\biocbuild\bbs-3.8-bioc\R\bin\R.exe CMD INSTALL Logolas_1.6.0.zip && rm Logolas_1.6.0.tar.gz Logolas_1.6.0.zip
###
##############################################################################
##############################################################################
  % Total    % Received % Xferd  Average Speed   Time    Time     Time  Current
                                 Dload  Upload   Total   Spent    Left  Speed
  0     0    0     0    0     0      0      0 --:--:-- --:--:-- --:--:--     0
100 1231k  100 1231k    0     0  10.8M      0 --:--:-- --:--:-- --:--:-- 11.2M
install for i386
* installing *source* package 'Logolas' ...
** R
** data
*** moving datasets to lazyload DB
** demo
** inst
** byte-compile and prepare package for lazy loading
** help
*** installing help indices
  converting help for package 'Logolas'
    finding HTML links ... done
    EBF1_disc1                              html  
    GetConsensusSeq                         html  
    UMI                                     html  
    aRxiv                                   html  
    get_logo_heights                        html  
    get_plot                                html  
    get_viewport_logo                       html  
    himalayan_fauna                         html  
    histone_marks                           html  
    logo_pssm                               html  
    logomaker                               html  
    makemylogo                              html  
    mutation_sig                            html  
    nlogomaker                              html  
    plogomaker                              html  
    pssm                                    html  
    seqlogo_example                         html  
** building package indices
** installing vignettes
** testing if installed package can be loaded
In R CMD INSTALL
install for x64
* installing *source* package 'Logolas' ...
** testing if installed package can be loaded
* MD5 sums
packaged installation of 'Logolas' as Logolas_1.6.0.zip
* DONE (Logolas)
In R CMD INSTALL
In R CMD INSTALL
* installing to library 'C:/Users/biocbuild/bbs-3.8-bioc/R/library'
package 'Logolas' successfully unpacked and MD5 sums checked
In R CMD INSTALL