| Back to Multiple platform build/check report for BioC 3.8 |
|
This page was generated on 2019-04-13 11:29:32 -0400 (Sat, 13 Apr 2019).
| Package 853/1649 | Hostname | OS / Arch | INSTALL | BUILD | CHECK | BUILD BIN | ||||||
| LRBaseDbi 1.0.0 Koki Tsuyuzaki
| malbec1 | Linux (Ubuntu 16.04.6 LTS) / x86_64 | OK | OK | OK | |||||||
| tokay1 | Windows Server 2012 R2 Standard / x64 | [ OK ] | OK | OK | OK | |||||||
| merida1 | OS X 10.11.6 El Capitan / x86_64 | OK | OK | OK | OK |
| Package: LRBaseDbi |
| Version: 1.0.0 |
| Command: C:\cygwin\bin\curl.exe -O https://malbec1.bioconductor.org/BBS/3.8/bioc/src/contrib/LRBaseDbi_1.0.0.tar.gz && rm -rf LRBaseDbi.buildbin-libdir && mkdir LRBaseDbi.buildbin-libdir && C:\Users\biocbuild\bbs-3.8-bioc\R\bin\R.exe CMD INSTALL --merge-multiarch --build --library=LRBaseDbi.buildbin-libdir LRBaseDbi_1.0.0.tar.gz && C:\Users\biocbuild\bbs-3.8-bioc\R\bin\R.exe CMD INSTALL LRBaseDbi_1.0.0.zip && rm LRBaseDbi_1.0.0.tar.gz LRBaseDbi_1.0.0.zip |
| StartedAt: 2019-04-12 18:48:04 -0400 (Fri, 12 Apr 2019) |
| EndedAt: 2019-04-12 18:48:55 -0400 (Fri, 12 Apr 2019) |
| EllapsedTime: 51.4 seconds |
| RetCode: 0 |
| Status: OK |
##############################################################################
##############################################################################
###
### Running command:
###
### C:\cygwin\bin\curl.exe -O https://malbec1.bioconductor.org/BBS/3.8/bioc/src/contrib/LRBaseDbi_1.0.0.tar.gz && rm -rf LRBaseDbi.buildbin-libdir && mkdir LRBaseDbi.buildbin-libdir && C:\Users\biocbuild\bbs-3.8-bioc\R\bin\R.exe CMD INSTALL --merge-multiarch --build --library=LRBaseDbi.buildbin-libdir LRBaseDbi_1.0.0.tar.gz && C:\Users\biocbuild\bbs-3.8-bioc\R\bin\R.exe CMD INSTALL LRBaseDbi_1.0.0.zip && rm LRBaseDbi_1.0.0.tar.gz LRBaseDbi_1.0.0.zip
###
##############################################################################
##############################################################################
% Total % Received % Xferd Average Speed Time Time Time Current
Dload Upload Total Spent Left Speed
0 0 0 0 0 0 0 0 --:--:-- --:--:-- --:--:-- 0
100 21795 100 21795 0 0 132k 0 --:--:-- --:--:-- --:--:-- 135k
install for i386
* installing *source* package 'LRBaseDbi' ...
** R
** data
** inst
** byte-compile and prepare package for lazy loading
** help
*** installing help indices
converting help for package 'LRBaseDbi'
finding HTML links ... done
FANTOM5 html
LRBaseDb html
columns html
dbInfo html
dbconn html
dbfile html
dbschema html
keys html
keytypes html
lrListDatabases html
lrNomenclature html
lrPackageName html
lrVersion html
makeLRBasePackage html
metaFANTOM5 html
select html
species html
** building package indices
** installing vignettes
** testing if installed package can be loaded
In R CMD INSTALL
install for x64
* installing *source* package 'LRBaseDbi' ...
** testing if installed package can be loaded
* MD5 sums
packaged installation of 'LRBaseDbi' as LRBaseDbi_1.0.0.zip
* DONE (LRBaseDbi)
In R CMD INSTALL
In R CMD INSTALL
* installing to library 'C:/Users/biocbuild/bbs-3.8-bioc/R/library'
package 'LRBaseDbi' successfully unpacked and MD5 sums checked
In R CMD INSTALL