| Back to Multiple platform build/check report for BioC 3.8 |
|
This page was generated on 2019-04-16 11:59:55 -0400 (Tue, 16 Apr 2019).
| Package 834/1649 | Hostname | OS / Arch | INSTALL | BUILD | CHECK | BUILD BIN | ||||||
| LINC 1.10.0 Manuel Goepferich
| malbec1 | Linux (Ubuntu 16.04.6 LTS) / x86_64 | OK | OK | OK | |||||||
| merida1 | OS X 10.11.6 El Capitan / x86_64 | OK | OK | OK | [ OK ] |
| Package: LINC |
| Version: 1.10.0 |
| Command: rm -rf LINC.buildbin-libdir && mkdir LINC.buildbin-libdir && /Users/biocbuild/BBS/utils/build-universal.sh LINC_1.10.0.tar.gz /Library/Frameworks/R.framework/Versions/Current/Resources/bin/R LINC.buildbin-libdir |
| StartedAt: 2019-04-16 04:17:17 -0400 (Tue, 16 Apr 2019) |
| EndedAt: 2019-04-16 04:18:02 -0400 (Tue, 16 Apr 2019) |
| EllapsedTime: 45.4 seconds |
| RetCode: 0 |
| Status: OK |
| PackageFile: LINC_1.10.0.tgz |
| PackageFileSize: 4.918 MiB |
##############################################################################
##############################################################################
###
### Running command:
###
### rm -rf LINC.buildbin-libdir && mkdir LINC.buildbin-libdir && /Users/biocbuild/BBS/utils/build-universal.sh LINC_1.10.0.tar.gz /Library/Frameworks/R.framework/Versions/Current/Resources/bin/R LINC.buildbin-libdir
###
##############################################################################
##############################################################################
>>>>>>>
>>>>>>> INSTALLATION WITH 'R CMD INSTALL --preclean --no-multiarch --library=LINC.buildbin-libdir LINC_1.10.0.tar.gz'
>>>>>>>
* installing *source* package ‘LINC’ ...
** libs
clang++ -I"/Library/Frameworks/R.framework/Resources/include" -DNDEBUG -I"/Library/Frameworks/R.framework/Versions/3.5/Resources/library/Rcpp/include" -I/usr/local/include -fPIC -Wall -g -O2 -c Cppspear.cpp -o Cppspear.o
Cppspear.cpp:78:14: warning: unused variable 'qspear' [-Wunused-variable]
double qspear;double nfraction;
^
1 warning generated.
clang -I"/Library/Frameworks/R.framework/Resources/include" -DNDEBUG -I"/Library/Frameworks/R.framework/Versions/3.5/Resources/library/Rcpp/include" -I/usr/local/include -fPIC -Wall -g -O2 -c LINC_init.c -o LINC_init.o
clang++ -I"/Library/Frameworks/R.framework/Resources/include" -DNDEBUG -I"/Library/Frameworks/R.framework/Versions/3.5/Resources/library/Rcpp/include" -I/usr/local/include -fPIC -Wall -g -O2 -c RcppExports.cpp -o RcppExports.o
clang++ -I"/Library/Frameworks/R.framework/Resources/include" -DNDEBUG -I"/Library/Frameworks/R.framework/Versions/3.5/Resources/library/Rcpp/include" -I/usr/local/include -fPIC -Wall -g -O2 -c docdd.cpp -o docdd.o
clang++ -I"/Library/Frameworks/R.framework/Resources/include" -DNDEBUG -I"/Library/Frameworks/R.framework/Versions/3.5/Resources/library/Rcpp/include" -I/usr/local/include -fPIC -Wall -g -O2 -c doesd.cpp -o doesd.o
clang++ -dynamiclib -Wl,-headerpad_max_install_names -undefined dynamic_lookup -single_module -multiply_defined suppress -L/Library/Frameworks/R.framework/Resources/lib -L/usr/local/lib -o LINC.so Cppspear.o LINC_init.o RcppExports.o docdd.o doesd.o -F/Library/Frameworks/R.framework/.. -framework R -Wl,-framework -Wl,CoreFoundation
installing to /Users/biocbuild/bbs-3.8-bioc/meat/LINC.buildbin-libdir/LINC/libs
** R
** data
** inst
** byte-compile and prepare package for lazy loading
Creating a new generic function for ‘history’ in package ‘LINC’
** help
*** installing help indices
** building package indices
** installing vignettes
** testing if installed package can be loaded
* DONE (LINC)
>>>>>>>
>>>>>>> FIXING LINKS FOR LINC.buildbin-libdir/LINC/libs//LINC.so
>>>>>>>
install_name_tool -change "/usr/local/lib/libgcc_s.1.dylib" "/Library/Frameworks/R.framework/Versions/3.5/Resources/lib/libgcc_s.1.dylib" "LINC.buildbin-libdir/LINC/libs//LINC.so"
install_name_tool -change "/usr/local/lib/libgfortran.3.dylib" "/Library/Frameworks/R.framework/Versions/3.5/Resources/lib/libgfortran.3.dylib" "LINC.buildbin-libdir/LINC/libs//LINC.so"
install_name_tool -change "/usr/local/lib/libreadline.5.2.dylib" "/Library/Frameworks/R.framework/Versions/3.5/Resources/lib/libreadline.5.2.dylib" "LINC.buildbin-libdir/LINC/libs//LINC.so"
install_name_tool -change "/usr/local/lib/libreadline.dylib" "/Library/Frameworks/R.framework/Versions/3.5/Resources/lib/libreadline.dylib" "LINC.buildbin-libdir/LINC/libs//LINC.so"
install_name_tool -change "/usr/local/lib/libquadmath.0.dylib" "/Library/Frameworks/R.framework/Versions/3.5/Resources/lib/libquadmath.0.dylib" "LINC.buildbin-libdir/LINC/libs//LINC.so"